BEGIN:VCALENDAR
VERSION:2.0
PRODID:-//Plone.org//NONSGML plone.app.event//EN
X-WR-TIMEZONE:America/Maceio
BEGIN:VEVENT
SUMMARY:Banca de Defesa de Dissertação
DTSTART;TZID=America/Maceio:20190226T140000
DTEND;TZID=America/Maceio:20190226T160000
DTSTAMP:20260420T174847Z
UID:b68e213f4b814ce3adccd3311a5e12d2@ip.ufal.br
ATTENDEE;CN="Banca Examinadora: Profa. Dra. Adélia Augusta Souto de Olive
 ira (Orientadora); Profa. Dra. Susane Vasconcelos Zanotti (Presidente);";R
 OLE=REQ-PARTICIPANT:Banca Examinadora: Profa. Dra. Adélia Augusta Souto d
 e Oliveira (Orientadora); Profa. Dra. Susane Vasconcelos Zanotti (Presiden
 te);
ATTENDEE;CN="Prof.ª Dr.ª Lúcia Pereira Leite (PPGP/UNESP-Bauru-SP);";RO
 LE=REQ-PARTICIPANT:Prof.ª Dr.ª Lúcia Pereira Leite (PPGP/UNESP-Bauru-SP
 );
ATTENDEE;CN="Prof.ª Dr.ª Paula Orchiucci Miura (PPGP/UFAL).";ROLE=REQ-PA
 RTICIPANT:Prof.ª Dr.ª Paula Orchiucci Miura (PPGP/UFAL).
CREATED:20190213T162846Z
DESCRIPTION:Banca de Defesa de Dissertação para obtenção do título de
  Mestre de Raíssa Matos Ferreira\, com o título: "A temática deficiênc
 ia em grupos de pesquisa no Diretório dos Grupos de Pesquisa e Plataforma
  Lattes do CNPq: metassíntese de artigos brasileiros".
LAST-MODIFIED:20250702T221509Z
LOCATION:Instituto de Psicologia - UFAL\, sala nº33
URL:https://ip.ufal.br/pt-br/pos-graduacao/pospsico/institucional/calendar
 io-de-defesas/defesas-em-2019/banca-de-defesa-de-dissertacao
END:VEVENT
BEGIN:VTIMEZONE
TZID:America/Maceio
X-LIC-LOCATION:America/Maceio
BEGIN:STANDARD
DTSTART:20020216T230000
TZNAME:-03
TZOFFSETFROM:-0200
TZOFFSETTO:-0300
END:STANDARD
END:VTIMEZONE
END:VCALENDAR
