BEGIN:VCALENDAR
VERSION:2.0
PRODID:-//Plone.org//NONSGML plone.app.event//EN
X-WR-TIMEZONE:America/Maceio
BEGIN:VEVENT
SUMMARY:Banca de Defesa de Dissertação
DTSTART;TZID=America/Maceio:20190626T140000
DTEND;TZID=America/Maceio:20190626T160000
DTSTAMP:20260420T174847Z
UID:9bc7c312aac34e6180251432d771a206@ip.ufal.br
ATTENDEE;CN="Banca Examinadora: Prof.ª Dr.ª Maria Auxiliadora Teixeira R
 ibeiro (Orientadora);";ROLE=REQ-PARTICIPANT:Banca Examinadora: Prof.ª Dr.
 ª Maria Auxiliadora Teixeira Ribeiro (Orientadora);
ATTENDEE;CN="Profa. Dra. Deise Juliana Francisco (PPGE/UFAL);";ROLE=REQ-PA
 RTICIPANT:Profa. Dra. Deise Juliana Francisco (PPGE/UFAL);
ATTENDEE;CN="Profa. Dra. Marília Silveira (Bolsista PNPD-PPGP/UFAL).";ROL
 E=REQ-PARTICIPANT:Profa. Dra. Marília Silveira (Bolsista PNPD-PPGP/UFAL).
CREATED:20190610T185724Z
DESCRIPTION:Banca de Defesa de Dissertação para obtenção do título de
  Mestre de Jéssica Sinara de Freitas Nemesio\, com o título: "A implanta
 ção dos Serviços Residenciais Terapêuticos e a desinstitucionalizaçã
 o em Maceió - Alagoas".
LAST-MODIFIED:20250702T221510Z
LOCATION:Sala 33\, no Instituto de Psicologia da UFAL.
URL:https://ip.ufal.br/pt-br/pos-graduacao/pospsico/institucional/calendar
 io-de-defesas/defesas-em-2019/banca-de-defesa-de-dissertacao-9
END:VEVENT
BEGIN:VTIMEZONE
TZID:America/Maceio
X-LIC-LOCATION:America/Maceio
BEGIN:STANDARD
DTSTART:20020216T230000
TZNAME:-03
TZOFFSETFROM:-0200
TZOFFSETTO:-0300
END:STANDARD
END:VTIMEZONE
END:VCALENDAR
