BEGIN:VCALENDAR
VERSION:2.0
PRODID:-//Plone.org//NONSGML plone.app.event//EN
X-WR-TIMEZONE:America/Maceio
BEGIN:VEVENT
SUMMARY:Banca de Defesa de Dissertação
DTSTART;TZID=America/Maceio:20190522T103000
DTEND;TZID=America/Maceio:20190522T123000
DTSTAMP:20260420T182400Z
UID:fbfebe9935424f6e92e39f270321739c@ip.ufal.br
ATTENDEE;CN="Banca Examinadora: Profa. Dra. Nadja Maria Vieira da Silva (O
 rientadora/Presidente);";ROLE=REQ-PARTICIPANT:Banca Examinadora: Profa. Dr
 a. Nadja Maria Vieira da Silva (Orientadora/Presidente);
ATTENDEE;CN="Profa. Dra. Carmen Silvia Motta Bandini (UNCISAL);";ROLE=REQ-
 PARTICIPANT:Profa. Dra. Carmen Silvia Motta Bandini (UNCISAL);
ATTENDEE;CN="Profa. Dra. Maria Auxiliadora Teixeira Ribeiro (PPGP/UFAL).";
 ROLE=REQ-PARTICIPANT:Profa. Dra. Maria Auxiliadora Teixeira Ribeiro (PPGP/
 UFAL).
CREATED:20190513T183210Z
DESCRIPTION:Banca de Defesa de Dissertação para obtenção do título de
  Mestre de Saulo de Tarso da Silva Oliveira\, com o título: "A mediação
  do brinquedo na comunicação com crianças com transtornos do espectro a
 utista".
LAST-MODIFIED:20250702T221510Z
LOCATION:Sala 33\, no Instituto de Psicologia da UFAL.
URL:https://ip.ufal.br/pt-br/pos-graduacao/pospsico/institucional/calendar
 io-de-defesas/defesas-em-2019/banca-de-defesa-de-dissertacao-8
END:VEVENT
BEGIN:VTIMEZONE
TZID:America/Maceio
X-LIC-LOCATION:America/Maceio
BEGIN:STANDARD
DTSTART:20020216T230000
TZNAME:-03
TZOFFSETFROM:-0200
TZOFFSETTO:-0300
END:STANDARD
END:VTIMEZONE
END:VCALENDAR
