BEGIN:VCALENDAR
VERSION:2.0
PRODID:-//Plone.org//NONSGML plone.app.event//EN
X-WR-TIMEZONE:America/Maceio
BEGIN:VEVENT
SUMMARY:Banca de Defesa de Dissertação
DTSTART;TZID=America/Maceio:20190514T140000
DTEND;TZID=America/Maceio:20190514T160000
DTSTAMP:20260420T174846Z
UID:08caf8e5ef3f4d978118eece4c792500@ip.ufal.br
ATTENDEE;CN="Banca Examinadora: Profa. Dra. Simone Maria Huning (Orientado
 ra/Presidente);";ROLE=REQ-PARTICIPANT:Banca Examinadora: Profa. Dra. Simon
 e Maria Huning (Orientadora/Presidente);
ATTENDEE;CN="Prof. Dr. João Paulo Pereira Barros (UFC);";ROLE=REQ-PARTICI
 PANT:Prof. Dr. João Paulo Pereira Barros (UFC);
ATTENDEE;CN="Profa. Dra. Regina Helena Alves da Silva (UFMG);";ROLE=REQ-PA
 RTICIPANT:Profa. Dra. Regina Helena Alves da Silva (UFMG);
ATTENDEE;CN="Profa. Dra. Marília Silveira (Bolsista PNPD-PPGP/UFAL).";ROL
 E=REQ-PARTICIPANT:Profa. Dra. Marília Silveira (Bolsista PNPD-PPGP/UFAL).
CREATED:20190502T161633Z
DESCRIPTION:Banca de Defesa de Dissertação para obtenção do título de
  Mestre de Carlysson Alexandre Rangel Gomes\, com o título: "Discursos de
  medo e insegurança como produtores de exclusão e segregação no espaç
 o urbano".
LAST-MODIFIED:20250702T221510Z
LOCATION:Sala 33\, no Instituto de Psicologia da UFAL.
URL:https://ip.ufal.br/pt-br/pos-graduacao/pospsico/institucional/calendar
 io-de-defesas/defesas-em-2019/banca-de-defesa-de-dissertacao-7
END:VEVENT
BEGIN:VTIMEZONE
TZID:America/Maceio
X-LIC-LOCATION:America/Maceio
BEGIN:STANDARD
DTSTART:20020216T230000
TZNAME:-03
TZOFFSETFROM:-0200
TZOFFSETTO:-0300
END:STANDARD
END:VTIMEZONE
END:VCALENDAR
