BEGIN:VCALENDAR
VERSION:2.0
PRODID:-//Plone.org//NONSGML plone.app.event//EN
X-WR-TIMEZONE:America/Maceio
BEGIN:VEVENT
SUMMARY:Banca de Defesa de Dissertação
DTSTART;TZID=America/Maceio:20190415T140000
DTEND;TZID=America/Maceio:20190415T160000
DTSTAMP:20260420T180107Z
UID:c54e2fa9a48d4491b6015a7783a8565a@ip.ufal.br
ATTENDEE;CN="Banca Examinadora: Prof.ª Dr.ª Sheyla Christine Santos Fern
 andes (Orientadora);";ROLE=REQ-PARTICIPANT:Banca Examinadora: Prof.ª Dr.
 ª Sheyla Christine Santos Fernandes (Orientadora);
ATTENDEE;CN="Prof. Dr. Lucas Cordeiro Freitas (UFSJ-MG);";ROLE=REQ-PARTICI
 PANT:Prof. Dr. Lucas Cordeiro Freitas (UFSJ-MG);
ATTENDEE;CN="Prof. Dr. Jefferson de Souza Bernardes (PPGP/UFAL).";ROLE=REQ
 -PARTICIPANT:Prof. Dr. Jefferson de Souza Bernardes (PPGP/UFAL).
CREATED:20190405T183540Z
DESCRIPTION:Banca de Defesa de Dissertação para obtenção do título de
  Mestre de Helenízia Santos Sobral\, com o título: "A intenção de curs
 ar o Ensino Superior a partir da Teoria da Ação Planejada".
LAST-MODIFIED:20250702T221510Z
LOCATION:Sala 33\, no Instituto de Psicologia da UFAL.
URL:https://ip.ufal.br/pt-br/pos-graduacao/pospsico/institucional/calendar
 io-de-defesas/defesas-em-2019/banca-de-defesa-de-dissertacao-6
END:VEVENT
BEGIN:VTIMEZONE
TZID:America/Maceio
X-LIC-LOCATION:America/Maceio
BEGIN:STANDARD
DTSTART:20020216T230000
TZNAME:-03
TZOFFSETFROM:-0200
TZOFFSETTO:-0300
END:STANDARD
END:VTIMEZONE
END:VCALENDAR
