BEGIN:VCALENDAR
VERSION:2.0
PRODID:-//Plone.org//NONSGML plone.app.event//EN
X-WR-TIMEZONE:America/Maceio
BEGIN:VEVENT
SUMMARY:Banca de Defesa de Dissertação
DTSTART;TZID=America/Maceio:20190404T100000
DTEND;TZID=America/Maceio:20190404T120000
DTSTAMP:20260420T163817Z
UID:73d92aa9260642cfb25e79a41c7e413b@ip.ufal.br
ATTENDEE;CN="Banca Examinadora: Prof.ª Dr.ª Maria Auxiliadora Teixeira R
 ibeiro (Orientadora);";ROLE=REQ-PARTICIPANT:Banca Examinadora: Prof.ª Dr.
 ª Maria Auxiliadora Teixeira Ribeiro (Orientadora);
ATTENDEE;CN="Profa. Dra. Flávia Regina Guedes Ribeiro (Arapiraca/Pólo Pa
 lmeira dos Índios/UFAL);";ROLE=REQ-PARTICIPANT:Profa. Dra. Flávia Regina
  Guedes Ribeiro (Arapiraca/Pólo Palmeira dos Índios/UFAL);
ATTENDEE;CN="Prof. Dr. Jefferson de Souza Bernardes (PPGP/UFAL).";ROLE=REQ
 -PARTICIPANT:Prof. Dr. Jefferson de Souza Bernardes (PPGP/UFAL).
CREATED:20190326T175240Z
DESCRIPTION:Banca de Defesa de Dissertação para obtenção do título de
  Mestre de Paulyne Guimarães Lopes\, com o título: "Sentidos da vivênci
 a nas ruas: conversas com pessoas em situação de rua".
LAST-MODIFIED:20250702T221510Z
LOCATION:Sala 33\, no Instituto de Psicologia da UFAL.
URL:https://ip.ufal.br/pt-br/pos-graduacao/pospsico/institucional/calendar
 io-de-defesas/defesas-em-2019/banca-de-defesa-de-dissertacao-5
END:VEVENT
BEGIN:VTIMEZONE
TZID:America/Maceio
X-LIC-LOCATION:America/Maceio
BEGIN:STANDARD
DTSTART:20020216T230000
TZNAME:-03
TZOFFSETFROM:-0200
TZOFFSETTO:-0300
END:STANDARD
END:VTIMEZONE
END:VCALENDAR
