BEGIN:VCALENDAR
VERSION:2.0
PRODID:-//Plone.org//NONSGML plone.app.event//EN
X-WR-TIMEZONE:America/Maceio
BEGIN:VEVENT
SUMMARY:Banca de Defesa de Dissertação
DTSTART;TZID=America/Maceio:20190329T143000
DTEND;TZID=America/Maceio:20190329T163000
DTSTAMP:20260420T174847Z
UID:eb335e034c2b4765ac1ec20ac302a69a@ip.ufal.br
ATTENDEE;CN="Banca Examinadora: Profa. Dra. Susane Vasconcelos Zanotti (Or
 ientadora/Presidente);";ROLE=REQ-PARTICIPANT:Banca Examinadora: Profa. Dra
 . Susane Vasconcelos Zanotti (Orientadora/Presidente);
ATTENDEE;CN="Profa. Dra. Cleide Pereira Monteiro (UFPB);";ROLE=REQ-PARTICI
 PANT:Profa. Dra. Cleide Pereira Monteiro (UFPB);
ATTENDEE;CN="Prof. Dr. Charles Elias Lang (PPGP/UFAL);";ROLE=REQ-PARTICIPA
 NT:Prof. Dr. Charles Elias Lang (PPGP/UFAL);
ATTENDEE;CN="Prof. Dr. Cleyton Sidney de Andrade (PPGP/UFAL).";ROLE=REQ-PA
 RTICIPANT:Prof. Dr. Cleyton Sidney de Andrade (PPGP/UFAL).
CREATED:20190315T184437Z
DESCRIPTION:Banca de Defesa de Dissertação para obtenção do título de
  Mestre de Aline Emílio da Mota Silveira\, com o título: "O homem\, uma 
 mulher: um estudo psicanalítico sobre as fórmulas da sexuação".
LAST-MODIFIED:20250702T221510Z
LOCATION:Instituto de Psicologia - UFAL\, sala nº33
URL:https://ip.ufal.br/pt-br/pos-graduacao/pospsico/institucional/calendar
 io-de-defesas/defesas-em-2019/banca-de-defesa-de-dissertacao-4
END:VEVENT
BEGIN:VTIMEZONE
TZID:America/Maceio
X-LIC-LOCATION:America/Maceio
BEGIN:STANDARD
DTSTART:20020216T230000
TZNAME:-03
TZOFFSETFROM:-0200
TZOFFSETTO:-0300
END:STANDARD
END:VTIMEZONE
END:VCALENDAR
