BEGIN:VCALENDAR
VERSION:2.0
PRODID:-//Plone.org//NONSGML plone.app.event//EN
X-WR-TIMEZONE:America/Maceio
BEGIN:VEVENT
SUMMARY:Banca de Defesa de Dissertação
DTSTART;TZID=America/Maceio:20190311T100000
DTEND;TZID=America/Maceio:20190311T120000
DTSTAMP:20260420T172442Z
UID:6e6ec974540343a3aff6ded22f662f4c@ip.ufal.br
ATTENDEE;CN="Banca Examinadora: Profa. Dra. Paula Orchiucci Miura (Orienta
 dora/Presidente);";ROLE=REQ-PARTICIPANT:Banca Examinadora: Profa. Dra. Pau
 la Orchiucci Miura (Orientadora/Presidente);
ATTENDEE;CN="Profa. Dra. Leila Salomão de La Plata Cury Tardivo (IP/USP);
 ";ROLE=REQ-PARTICIPANT:Profa. Dra. Leila Salomão de La Plata Cury Tardivo
  (IP/USP);
ATTENDEE;CN="Profa. Dra. Heliane de Almeida Lins Leitão (IP/UFAL)(Titular
 )";ROLE=REQ-PARTICIPANT:Profa. Dra. Heliane de Almeida Lins Leitão (IP/UF
 AL)(Titular)
ATTENDEE;CN="Profa. Dra. Susane Vasconcelos Zanotti (PPGP/UFAL)(suplente).
 ";ROLE=REQ-PARTICIPANT:Profa. Dra. Susane Vasconcelos Zanotti (PPGP/UFAL)(
 suplente).
CREATED:20190307T154127Z
DESCRIPTION:Banca de Defesa de Dissertação para obtenção do título de
  Mestre de Marianna Ribeiro Guimarães\, com o título: "A constituição 
 da maternidade na paternidade adolescente".
LAST-MODIFIED:20250702T221509Z
LOCATION:Instituto de Psicologia - UFAL\, sala nº33
URL:https://ip.ufal.br/pt-br/pos-graduacao/pospsico/institucional/calendar
 io-de-defesas/defesas-em-2019/banca-de-defesa-de-dissertacao-2
END:VEVENT
BEGIN:VTIMEZONE
TZID:America/Maceio
X-LIC-LOCATION:America/Maceio
BEGIN:STANDARD
DTSTART:20020216T230000
TZNAME:-03
TZOFFSETFROM:-0200
TZOFFSETTO:-0300
END:STANDARD
END:VTIMEZONE
END:VCALENDAR
