BEGIN:VCALENDAR
VERSION:2.0
PRODID:-//Plone.org//NONSGML plone.app.event//EN
X-WR-TIMEZONE:America/Maceio
BEGIN:VEVENT
SUMMARY:Banca de Defesa de Dissertação
DTSTART;TZID=America/Maceio:20191216T090000
DTEND;TZID=America/Maceio:20191216T110000
DTSTAMP:20260420T152425Z
UID:e3f40619216040a0a40879cfc3e39597@ip.ufal.br
ATTENDEE;CN="Banca Examinadora: Profa. Dra. Paula Orchiucci Miura (Orienta
 dora/Presidente);";ROLE=REQ-PARTICIPANT:Banca Examinadora: Profa. Dra. Pau
 la Orchiucci Miura (Orientadora/Presidente);
ATTENDEE;CN="Profa. Dra. Leila Salomão de La Plata Cury Tardivo (IP/USP);
 ";ROLE=REQ-PARTICIPANT:Profa. Dra. Leila Salomão de La Plata Cury Tardivo
  (IP/USP);
ATTENDEE;CN="Profa. Dra. Heliane de Almeida Lins Leitão (IP/UFAL).";ROLE=
 REQ-PARTICIPANT:Profa. Dra. Heliane de Almeida Lins Leitão (IP/UFAL).
CREATED:20191210T165818Z
DESCRIPTION:Banca de Defesa de Dissertação para obtenção do título de
  Mestre de Luciana de Araújo Vieira\, com o título: "Metassíntese da te
 mática Adoção em Revistas de Psicologia Qualis A".
LAST-MODIFIED:20250702T221510Z
LOCATION:Sala 33\, IP - Instituto de Psicologia/UFAL
URL:https://ip.ufal.br/pt-br/pos-graduacao/pospsico/institucional/calendar
 io-de-defesas/defesas-em-2019/banca-de-defesa-de-dissertacao-17
END:VEVENT
BEGIN:VTIMEZONE
TZID:America/Maceio
X-LIC-LOCATION:America/Maceio
BEGIN:STANDARD
DTSTART:20020216T230000
TZNAME:-03
TZOFFSETFROM:-0200
TZOFFSETTO:-0300
END:STANDARD
END:VTIMEZONE
END:VCALENDAR
