BEGIN:VCALENDAR
VERSION:2.0
PRODID:-//Plone.org//NONSGML plone.app.event//EN
X-WR-TIMEZONE:America/Maceio
BEGIN:VEVENT
SUMMARY:Banca de Defesa de Dissertação
DTSTART;TZID=America/Maceio:20190930T150000
DTEND;TZID=America/Maceio:20190930T170000
DTSTAMP:20260420T172404Z
UID:07a22d8666cb4d3d89dfbdfb902ab402@ip.ufal.br
ATTENDEE;CN="Banca Examinadora: Prof. Dr. Jefferson de Souza Bernardes (Or
 ientador/Presidente);";ROLE=REQ-PARTICIPANT:Banca Examinadora: Prof. Dr. J
 efferson de Souza Bernardes (Orientador/Presidente);
ATTENDEE;CN="Profa. Dra. Joelma de Oliveira Albuquerque (PROEX/UFAL);";ROL
 E=REQ-PARTICIPANT:Profa. Dra. Joelma de Oliveira Albuquerque (PROEX/UFAL);
ATTENDEE;CN="Profa. Dra. Maria Auxiliadora Teixeira Ribeiro (PPGP/UFAL).";
 ROLE=REQ-PARTICIPANT:Profa. Dra. Maria Auxiliadora Teixeira Ribeiro (PPGP/
 UFAL).
CREATED:20190905T172414Z
DESCRIPTION:Banca de Defesa de Dissertação para obtenção do título de
  Mestre de Vanessa Ferry de Oliveira Soares\, com o título: "A Extensão 
 Universitária no processo de Formação Profissional: Experiência da TEC
 A".
LAST-MODIFIED:20250702T221510Z
LOCATION:Sala 33\, no Instituto de Psicologia da UFAL.
URL:https://ip.ufal.br/pt-br/pos-graduacao/pospsico/institucional/calendar
 io-de-defesas/defesas-em-2019/banca-de-defesa-de-dissertacao-15
END:VEVENT
BEGIN:VTIMEZONE
TZID:America/Maceio
X-LIC-LOCATION:America/Maceio
BEGIN:STANDARD
DTSTART:20020216T230000
TZNAME:-03
TZOFFSETFROM:-0200
TZOFFSETTO:-0300
END:STANDARD
END:VTIMEZONE
END:VCALENDAR
