BEGIN:VCALENDAR
VERSION:2.0
PRODID:-//Plone.org//NONSGML plone.app.event//EN
X-WR-TIMEZONE:America/Maceio
BEGIN:VEVENT
SUMMARY:Banca de Defesa de Dissertação
DTSTART;TZID=America/Maceio:20190925T090000
DTEND;TZID=America/Maceio:20190925T110000
DTSTAMP:20260420T152426Z
UID:a696ebd35796476bbd50669f6cc086af@ip.ufal.br
ATTENDEE;CN="Banca Examinadora: Prof. Dr. Jefferson de Souza Bernardes (Or
 ientador/Presidente);";ROLE=REQ-PARTICIPANT:Banca Examinadora: Prof. Dr. J
 efferson de Souza Bernardes (Orientador/Presidente);
ATTENDEE;CN="Profa. Dra. Telma Low Silva Junqueira (IP/UFAL);";ROLE=REQ-PA
 RTICIPANT:Profa. Dra. Telma Low Silva Junqueira (IP/UFAL);
ATTENDEE;CN="Prof. Dr. Jorge Luiz Cardoso Lyra da Fonseca (UFPE);";ROLE=RE
 Q-PARTICIPANT:Prof. Dr. Jorge Luiz Cardoso Lyra da Fonseca (UFPE);
ATTENDEE;CN="Profa. Dra. Marília Silveira (Bolsista-PNPD/PPGP/UFAL).";ROL
 E=REQ-PARTICIPANT:Profa. Dra. Marília Silveira (Bolsista-PNPD/PPGP/UFAL).
CREATED:20190905T171739Z
DESCRIPTION:Banca de Defesa de Dissertação para obtenção do título de
  Mestre de Kelcy Mary Ferreira Pereira\, com o título: "Bordazul - Bordad
 o e Cuidado".
LAST-MODIFIED:20250702T221510Z
LOCATION:Sala 30\, no Instituto de Psicologia da UFAL.
URL:https://ip.ufal.br/pt-br/pos-graduacao/pospsico/institucional/calendar
 io-de-defesas/defesas-em-2019/banca-de-defesa-de-dissertacao-14
END:VEVENT
BEGIN:VTIMEZONE
TZID:America/Maceio
X-LIC-LOCATION:America/Maceio
BEGIN:STANDARD
DTSTART:20020216T230000
TZNAME:-03
TZOFFSETFROM:-0200
TZOFFSETTO:-0300
END:STANDARD
END:VTIMEZONE
END:VCALENDAR
