BEGIN:VCALENDAR
VERSION:2.0
PRODID:-//Plone.org//NONSGML plone.app.event//EN
X-WR-TIMEZONE:America/Maceio
BEGIN:VEVENT
SUMMARY:Banca de Defesa de Dissertação
DTSTART;TZID=America/Maceio:20190924T140000
DTEND;TZID=America/Maceio:20190924T160000
DTSTAMP:20260420T152425Z
UID:0313b15c8aa4484391714b93fed60fc9@ip.ufal.br
ATTENDEE;CN="Banca Examinadora: Prof. Dr. Marcos Ribeiro Mesquita (Orienta
 dor/Presidente);";ROLE=REQ-PARTICIPANT:Banca Examinadora: Prof. Dr. Marcos
  Ribeiro Mesquita (Orientador/Presidente);
ATTENDEE;CN="Prof. Dr. Benedito Medrado Dantas (UFPE);";ROLE=REQ-PARTICIPA
 NT:Prof. Dr. Benedito Medrado Dantas (UFPE);
ATTENDEE;CN="Profa. Dra. Telma Low Silva Junqueira (IP/UFAL).";ROLE=REQ-PA
 RTICIPANT:Profa. Dra. Telma Low Silva Junqueira (IP/UFAL).
CREATED:20190905T171014Z
DESCRIPTION:Banca de Defesa de Dissertação para obtenção do título de
  Mestre de Jardiael Herculano da Silva\, com o título: "Gênero e Sexuali
 dade no cotidiano escolar sob a perspectiva de Professoras e Professores".
LAST-MODIFIED:20250702T221510Z
LOCATION:Sala 33\, no Instituto de Psicologia da UFAL.
URL:https://ip.ufal.br/pt-br/pos-graduacao/pospsico/institucional/calendar
 io-de-defesas/defesas-em-2019/banca-de-defesa-de-dissertacao-13
END:VEVENT
BEGIN:VTIMEZONE
TZID:America/Maceio
X-LIC-LOCATION:America/Maceio
BEGIN:STANDARD
DTSTART:20020216T230000
TZNAME:-03
TZOFFSETFROM:-0200
TZOFFSETTO:-0300
END:STANDARD
END:VTIMEZONE
END:VCALENDAR
