BEGIN:VCALENDAR
VERSION:2.0
PRODID:-//Plone.org//NONSGML plone.app.event//EN
X-WR-TIMEZONE:America/Maceio
BEGIN:VEVENT
SUMMARY:Banca de Defesa de Dissertação
DTSTART;TZID=America/Maceio:20190829T140000
DTEND;TZID=America/Maceio:20190829T160000
DTSTAMP:20260420T152002Z
UID:bf077cc9870a42f9887a0a5b596f8096@ip.ufal.br
ATTENDEE;CN="Banca Examinadora: Profa. Dra. Simone Maria Huning (Orientado
 ra/Presidente);";ROLE=REQ-PARTICIPANT:Banca Examinadora: Profa. Dra. Simon
 e Maria Huning (Orientadora/Presidente);
ATTENDEE;CN="Prof. Dr. Walcler de Lima Mendes Júnior (UNIT);";ROLE=REQ-PA
 RTICIPANT:Prof. Dr. Walcler de Lima Mendes Júnior (UNIT);
ATTENDEE;CN="Prof. Dr. Saulo Luders Fernandes (PPGP/UFAL).";ROLE=REQ-PARTI
 CIPANT:Prof. Dr. Saulo Luders Fernandes (PPGP/UFAL).
CREATED:20190812T194446Z
DESCRIPTION:Banca de Defesa de Dissertação para obtenção do título de
  Mestre de Leonardo Santos Aguiar da Silva\, com o título: "Revitalizaç
 ão urbana: uma questão (também) de raça".
LAST-MODIFIED:20250702T221510Z
LOCATION:Sala 33\, no Instituto de Psicologia da UFAL.
URL:https://ip.ufal.br/pt-br/pos-graduacao/pospsico/institucional/calendar
 io-de-defesas/defesas-em-2019/banca-de-defesa-de-dissertacao-12
END:VEVENT
BEGIN:VTIMEZONE
TZID:America/Maceio
X-LIC-LOCATION:America/Maceio
BEGIN:STANDARD
DTSTART:20020216T230000
TZNAME:-03
TZOFFSETFROM:-0200
TZOFFSETTO:-0300
END:STANDARD
END:VTIMEZONE
END:VCALENDAR
