BEGIN:VCALENDAR
VERSION:2.0
PRODID:-//Plone.org//NONSGML plone.app.event//EN
X-WR-TIMEZONE:America/Maceio
BEGIN:VEVENT
SUMMARY:Banca de Defesa de Dissertação
DTSTART;TZID=America/Maceio:20190822T140000
DTEND;TZID=America/Maceio:20190822T160000
DTSTAMP:20260420T152425Z
UID:0133bb12664347dfa8737f9e12964e1d@ip.ufal.br
ATTENDEE;CN="Banca Examinadora: Profa. Dra. Simone Maria Huning (Orientado
 ra/Presidente);";ROLE=REQ-PARTICIPANT:Banca Examinadora: Profa. Dra. Simon
 e Maria Huning (Orientadora/Presidente);
ATTENDEE;CN="Profa. Dra. Lílian Rodrigues da Cruz (PPGPSI/UFRGS);";ROLE=R
 EQ-PARTICIPANT:Profa. Dra. Lílian Rodrigues da Cruz (PPGPSI/UFRGS);
ATTENDEE;CN="Profa. Dra. Érika Cecília Soares Oliveira (PPGP/UFAL).";ROL
 E=REQ-PARTICIPANT:Profa. Dra. Érika Cecília Soares Oliveira (PPGP/UFAL).
CREATED:20190812T193909Z
DESCRIPTION:Banca de Defesa de Dissertação para obtenção do título de
  Mestre de Alisson Tiago Gonçalves Vieira\, com o título: "Biopolítica 
 e o direito de crianças e adolescentes à Convivência Familiar e Comunit
 ária".
LAST-MODIFIED:20250702T221510Z
LOCATION:Sala 33\, no Instituto de Psicologia da UFAL.
URL:https://ip.ufal.br/pt-br/pos-graduacao/pospsico/institucional/calendar
 io-de-defesas/defesas-em-2019/banca-de-defesa-de-dissertacao-11
END:VEVENT
BEGIN:VTIMEZONE
TZID:America/Maceio
X-LIC-LOCATION:America/Maceio
BEGIN:STANDARD
DTSTART:20020216T230000
TZNAME:-03
TZOFFSETFROM:-0200
TZOFFSETTO:-0300
END:STANDARD
END:VTIMEZONE
END:VCALENDAR
