BEGIN:VCALENDAR
VERSION:2.0
PRODID:-//Plone.org//NONSGML plone.app.event//EN
X-WR-TIMEZONE:America/Maceio
BEGIN:VEVENT
SUMMARY:Banca de Defesa de Dissertação
DTSTART;TZID=America/Maceio:20190626T080000
DTEND;TZID=America/Maceio:20190626T100000
DTSTAMP:20260420T170303Z
UID:606727b74e864b14af006a51327346e5@ip.ufal.br
ATTENDEE;CN="Banca Examinadora: Profa. Dra. Adélia Augusta Souto de Olive
 ira (Orientadora); Profa. Dra. Susane Vasconcelos Zanotti (Presidente);";R
 OLE=REQ-PARTICIPANT:Banca Examinadora: Profa. Dra. Adélia Augusta Souto d
 e Oliveira (Orientadora); Profa. Dra. Susane Vasconcelos Zanotti (Presiden
 te);
ATTENDEE;CN="Profa. Dra. Adriana Alvarenga Marques (FEAC/UFAL);";ROLE=REQ-
 PARTICIPANT:Profa. Dra. Adriana Alvarenga Marques (FEAC/UFAL);
ATTENDEE;CN="Profa. Dra. Cristina Camelo de Azevedo (IP/UFAL).";ROLE=REQ-P
 ARTICIPANT:Profa. Dra. Cristina Camelo de Azevedo (IP/UFAL).
CREATED:20190618T161536Z
DESCRIPTION:Banca de Defesa de Dissertação para obtenção do título de
  Mestre de Denis Almeida da Silva\, com o título: "Qualidade de vida no t
 rabalho: metassíntese das produções acadêmicas brasileiras".
LAST-MODIFIED:20250702T221510Z
LOCATION:Sala 33\, no Instituto de Psicologia da UFAL.
URL:https://ip.ufal.br/pt-br/pos-graduacao/pospsico/institucional/calendar
 io-de-defesas/defesas-em-2019/banca-de-defesa-de-dissertacao-10
END:VEVENT
BEGIN:VTIMEZONE
TZID:America/Maceio
X-LIC-LOCATION:America/Maceio
BEGIN:STANDARD
DTSTART:20020216T230000
TZNAME:-03
TZOFFSETFROM:-0200
TZOFFSETTO:-0300
END:STANDARD
END:VTIMEZONE
END:VCALENDAR
