BEGIN:VCALENDAR
VERSION:2.0
PRODID:-//Plone.org//NONSGML plone.app.event//EN
X-WR-TIMEZONE:America/Maceio
BEGIN:VEVENT
SUMMARY:Banca de Defesa de Dissertação
DTSTART;TZID=America/Maceio:20190301T103000
DTEND;TZID=America/Maceio:20190301T123000
DTSTAMP:20260420T213441Z
UID:0ffd14d407ed40fa92fb7ca4a795f2d1@ip.ufal.br
ATTENDEE;CN="Banca Examinadora: Profa. Dra. Adélia Augusta Souto de Olive
 ira (Orientadora); Profa. Dra. Paula Orchiucci Miura (Presidente);";ROLE=R
 EQ-PARTICIPANT:Banca Examinadora: Profa. Dra. Adélia Augusta Souto de Oli
 veira (Orientadora); Profa. Dra. Paula Orchiucci Miura (Presidente);
ATTENDEE;CN="Profa. Dra. Sônia Margarida Gomes Sousa (PUC-Goiás);";ROLE=
 REQ-PARTICIPANT:Profa. Dra. Sônia Margarida Gomes Sousa (PUC-Goiás);
ATTENDEE;CN="Profa. Dra. Heliane de Almeida Lins Leitão (IP/UFAL).";ROLE=
 REQ-PARTICIPANT:Profa. Dra. Heliane de Almeida Lins Leitão (IP/UFAL).
CREATED:20190214T170721Z
DESCRIPTION:Banca de Defesa de Dissertação para obtenção do título de
  Mestre de Maria Sandra dos Santos\, com o título: "A infância e a crian
 ça na psicologia: metassíntese da produção acadêmica de grupos de pes
 quisa e pesquisadores brasileiros".
LAST-MODIFIED:20250702T221509Z
LOCATION:Sala 33\, no Instituto de Psicologia da UFAL.
URL:https://ip.ufal.br/pt-br/pos-graduacao/pospsico/institucional/calendar
 io-de-defesas/defesas-em-2019/banca-de-defesa-de-dissertacao-1
END:VEVENT
BEGIN:VTIMEZONE
TZID:America/Maceio
X-LIC-LOCATION:America/Maceio
BEGIN:STANDARD
DTSTART:20020216T230000
TZNAME:-03
TZOFFSETFROM:-0200
TZOFFSETTO:-0300
END:STANDARD
END:VTIMEZONE
END:VCALENDAR
