BEGIN:VCALENDAR
VERSION:2.0
PRODID:-//Plone.org//NONSGML plone.app.event//EN
X-WR-TIMEZONE:America/Maceio
BEGIN:VEVENT
SUMMARY:Banca de Defesa Dissertação
DTSTART;TZID=America/Maceio:20180129T143000
DTEND;TZID=America/Maceio:20180129T163000
DTSTAMP:20260420T213441Z
UID:41c7e58f03ab46d7aeb3e1b1cb4af6b9@ip.ufal.br
ATTENDEE;CN="Banca Examinadora: Prof.ª Dr.ª Heliane de Almeida Lins Leit
 ão (Orientadora);";ROLE=REQ-PARTICIPANT:Banca Examinadora: Prof.ª Dr.ª 
 Heliane de Almeida Lins Leitão (Orientadora);
ATTENDEE;CN="Prof.ª Dr.ª Susane Vasconcelos Zanotti (PPGP/UFAL);";ROLE=R
 EQ-PARTICIPANT:Prof.ª Dr.ª Susane Vasconcelos Zanotti (PPGP/UFAL);
ATTENDEE;CN="Prof.ª Dr.ª Hulda Helena Coraciara Stadtler (UFRPE).";ROLE=
 REQ-PARTICIPANT:Prof.ª Dr.ª Hulda Helena Coraciara Stadtler (UFRPE).
CREATED:20180126T122318Z
DESCRIPTION:Banca de Defesa de Dissertação para obtenção do título de
  Mestre de Valéria Brandão Pereira\, com o título: "Solidão e reinven
 ção: A experiência da maternidade após a separação conjugal".
LAST-MODIFIED:20250702T221510Z
LOCATION:Sala nº33 de Instituto de Psicologia
URL:https://ip.ufal.br/pt-br/pos-graduacao/pospsico/institucional/calendar
 io-de-defesas/defesas-em-2018/banca-de-defesa-dissertacao
END:VEVENT
BEGIN:VTIMEZONE
TZID:America/Maceio
X-LIC-LOCATION:America/Maceio
BEGIN:STANDARD
DTSTART:20020216T230000
TZNAME:-03
TZOFFSETFROM:-0200
TZOFFSETTO:-0300
END:STANDARD
END:VTIMEZONE
END:VCALENDAR
