BEGIN:VCALENDAR
VERSION:2.0
PRODID:-//Plone.org//NONSGML plone.app.event//EN
X-WR-TIMEZONE:America/Maceio
BEGIN:VEVENT
SUMMARY:Banca de Defesa Dissertação
DTSTART;TZID=America/Maceio:20180328T140000
DTEND;TZID=America/Maceio:20180328T160000
DTSTAMP:20260420T152426Z
UID:223184b6dc3a4cbeae41e14de375d7ab@ip.ufal.br
ATTENDEE;CN="Banca Examinadora: Prof.ª Dr.ª Sheyla Christine Santos Fern
 andes (Orientadora);";ROLE=REQ-PARTICIPANT:Banca Examinadora: Prof.ª Dr.
 ª Sheyla Christine Santos Fernandes (Orientadora);
ATTENDEE;CN="Prof. Dr. Jorge Artur Peçanha de Miranda Coelho (UFAL);";ROL
 E=REQ-PARTICIPANT:Prof. Dr. Jorge Artur Peçanha de Miranda Coelho (UFAL);
ATTENDEE;CN="Prof. Dr. Elder Cerqueira Santos (UFS).";ROLE=REQ-PARTICIPANT
 :Prof. Dr. Elder Cerqueira Santos (UFS).
CREATED:20180326T162814Z
DESCRIPTION:Banca de Defesa de Dissertação para obtenção do título de
  Mestre de Ingridd Raphaelle Rolins Gomes\, com o título: "A intenção f
 eminina de permanecer em um relacionamento abusivo".
LAST-MODIFIED:20250702T221510Z
LOCATION:Instituto de Psicologia\, Sala 33
URL:https://ip.ufal.br/pt-br/pos-graduacao/pospsico/institucional/calendar
 io-de-defesas/defesas-em-2018/banca-de-defesa-dissertacao-5
END:VEVENT
BEGIN:VTIMEZONE
TZID:America/Maceio
X-LIC-LOCATION:America/Maceio
BEGIN:STANDARD
DTSTART:20020216T230000
TZNAME:-03
TZOFFSETFROM:-0200
TZOFFSETTO:-0300
END:STANDARD
END:VTIMEZONE
END:VCALENDAR
