BEGIN:VCALENDAR
VERSION:2.0
PRODID:-//Plone.org//NONSGML plone.app.event//EN
X-WR-TIMEZONE:America/Maceio
BEGIN:VEVENT
SUMMARY:Banca de Defesa Dissertação
DTSTART;TZID=America/Maceio:20180223T083000
DTEND;TZID=America/Maceio:20180223T100000
DTSTAMP:20260420T152425Z
UID:6023f262d56844449c1333157ccbd13f@ip.ufal.br
ATTENDEE;CN="Banca Examinadora: Prof.ª Dr.ª Paula Orchiucci Miura (Orien
 tadora);";ROLE=REQ-PARTICIPANT:Banca Examinadora: Prof.ª Dr.ª Paula Orch
 iucci Miura (Orientadora);
ATTENDEE;CN="Prof.ª Dr.ª Heliane de Almeida Lins Leitão (PPGP/UFAL);";R
 OLE=REQ-PARTICIPANT:Prof.ª Dr.ª Heliane de Almeida Lins Leitão (PPGP/UF
 AL);
ATTENDEE;CN="Prof.ª Dr.ª Leila Salomão de La Plata Cury Tardivo (USP)."
 ;ROLE=REQ-PARTICIPANT:Prof.ª Dr.ª Leila Salomão de La Plata Cury Tardiv
 o (USP).
CREATED:20180219T131025Z
DESCRIPTION:Banca de Defesa de Dissertação para obtenção do título de
  Mestre de Gline Cavalcante Costa\, com o título: "A maternidade sob o ol
 har de adolescentes grávidas".
LAST-MODIFIED:20250702T221510Z
LOCATION:Sala nº33 de Instituto de Psicologia
URL:https://ip.ufal.br/pt-br/pos-graduacao/pospsico/institucional/calendar
 io-de-defesas/defesas-em-2018/banca-de-defesa-dissertacao-1
END:VEVENT
BEGIN:VTIMEZONE
TZID:America/Maceio
X-LIC-LOCATION:America/Maceio
BEGIN:STANDARD
DTSTART:20020216T230000
TZNAME:-03
TZOFFSETFROM:-0200
TZOFFSETTO:-0300
END:STANDARD
END:VTIMEZONE
END:VCALENDAR
