BEGIN:VCALENDAR
VERSION:2.0
PRODID:-//Plone.org//NONSGML plone.app.event//EN
X-WR-TIMEZONE:America/Maceio
BEGIN:VEVENT
SUMMARY:Banca de Defesa de Dissertação
DTSTART;TZID=America/Maceio:20180323T140000
DTEND;TZID=America/Maceio:20180323T160000
DTSTAMP:20260420T163817Z
UID:d0eef480c2934469bb252b68bae734d2@ip.ufal.br
ATTENDEE;CN="Banca Examinadora: Prof.ª Dr.ª Simone Maria Hüning (Orient
 adora);";ROLE=REQ-PARTICIPANT:Banca Examinadora: Prof.ª Dr.ª Simone Mari
 a Hüning (Orientadora);
ATTENDEE;CN="Prof.ª Dr.ª Andrea Scisleski;";ROLE=REQ-PARTICIPANT:Prof.ª
  Dr.ª Andrea Scisleski;
ATTENDEE;CN="Prof. Dr. Emerson Oliveira do Nascimento (UFAL).";ROLE=REQ-PA
 RTICIPANT:Prof. Dr. Emerson Oliveira do Nascimento (UFAL).
CREATED:20180402T162438Z
DESCRIPTION:Banca de Defesa de Dissertação para obtenção do título de
  Mestre de Tathina Lucio Braga Netto\, com o título: "A carne mais barata
  do mercado é a (jovem) negra: percursos de (necro)política no Brasil".
LAST-MODIFIED:20250702T221510Z
LOCATION:Instituto de Psicologia\, sala nº 33
URL:https://ip.ufal.br/pt-br/pos-graduacao/pospsico/institucional/calendar
 io-de-defesas/defesas-em-2018/banca-de-defesa-de-dissertacao
END:VEVENT
BEGIN:VTIMEZONE
TZID:America/Maceio
X-LIC-LOCATION:America/Maceio
BEGIN:STANDARD
DTSTART:20020216T230000
TZNAME:-03
TZOFFSETFROM:-0200
TZOFFSETTO:-0300
END:STANDARD
END:VTIMEZONE
END:VCALENDAR
