BEGIN:VCALENDAR
VERSION:2.0
PRODID:-//Plone.org//NONSGML plone.app.event//EN
X-WR-TIMEZONE:America/Maceio
BEGIN:VEVENT
SUMMARY:Banca de Defesa de Dissertação
DTSTART;TZID=America/Maceio:20180625T090000
DTEND;TZID=America/Maceio:20180625T110000
DTSTAMP:20260420T182400Z
UID:4ce210803a0b4bb8895c211c69cb1164@ip.ufal.br
ATTENDEE;CN="Banca Examinadora: Prof.ª Dr.ª Heliane de Almeida Lins Leit
 ão (Orientadora);";ROLE=REQ-PARTICIPANT:Banca Examinadora: Prof.ª Dr.ª 
 Heliane de Almeida Lins Leitão (Orientadora);
ATTENDEE;CN="Prof.ª Dr.ª Susane Vasconcelos Zanotti (PPGP/UFAL);";ROLE=R
 EQ-PARTICIPANT:Prof.ª Dr.ª Susane Vasconcelos Zanotti (PPGP/UFAL);
ATTENDEE;CN="Prof.ª Dr.ª Ruth Vasconcelos Lopes Ferreira (ICS/UFAL).";RO
 LE=REQ-PARTICIPANT:Prof.ª Dr.ª Ruth Vasconcelos Lopes Ferreira (ICS/UFAL
 ).
CREATED:20180619T170523Z
DESCRIPTION:Banca de Defesa de Dissertação para obtenção do título de
  Mestre de Anielly Cris de Oliveira Santos\, com o título: "Indiferença 
 e humilhação: efeitos do narcisismo contemporâneo nas relações de des
 igualdade social"
LAST-MODIFIED:20250702T221510Z
LOCATION:Sala 33\, do Instituto de Psicologia\, UFAL
URL:https://ip.ufal.br/pt-br/pos-graduacao/pospsico/institucional/calendar
 io-de-defesas/defesas-em-2018/banca-de-defesa-de-dissertacao-9
END:VEVENT
BEGIN:VTIMEZONE
TZID:America/Maceio
X-LIC-LOCATION:America/Maceio
BEGIN:STANDARD
DTSTART:20020216T230000
TZNAME:-03
TZOFFSETFROM:-0200
TZOFFSETTO:-0300
END:STANDARD
END:VTIMEZONE
END:VCALENDAR
