BEGIN:VCALENDAR
VERSION:2.0
PRODID:-//Plone.org//NONSGML plone.app.event//EN
X-WR-TIMEZONE:America/Maceio
BEGIN:VEVENT
SUMMARY:Banca de Defesa de Dissertação
DTSTART;TZID=America/Maceio:20180521T093000
DTEND;TZID=America/Maceio:20180521T113000
DTSTAMP:20260420T163816Z
UID:91569edbb1ad4e0bb1293b2bfd7996e9@ip.ufal.br
ATTENDEE;CN="Banca Examinadora: Prof. Dr. Lucas Cordeiro Freitas (Orientad
 or);";ROLE=REQ-PARTICIPANT:Banca Examinadora: Prof. Dr. Lucas Cordeiro Fre
 itas (Orientador);
ATTENDEE;CN="Prof.ª Dr.ª Sheyla Christine Santos Fernandes (PPGP/UFAL);"
 ;ROLE=REQ-PARTICIPANT:Prof.ª Dr.ª Sheyla Christine Santos Fernandes (PPG
 P/UFAL);
ATTENDEE;CN="Prof. Dr. Lucas Guimarães Cardoso de Sá (UFMA).";ROLE=REQ-P
 ARTICIPANT:Prof. Dr. Lucas Guimarães Cardoso de Sá (UFMA).
CREATED:20180503T163215Z
DESCRIPTION:Banca de Defesa de Dissertação para obtenção do título de
  Mestre de Mariana de Almeida Andrade\, com o título: "Relação entre Ac
 idente Vascular Cerebral e Habilidades Sociais em adultos".
LAST-MODIFIED:20250702T221510Z
LOCATION:Sala 33\, no Instituto de Psicologia da UFAL.
URL:https://ip.ufal.br/pt-br/pos-graduacao/pospsico/institucional/calendar
 io-de-defesas/defesas-em-2018/banca-de-defesa-de-dissertacao-8
END:VEVENT
BEGIN:VTIMEZONE
TZID:America/Maceio
X-LIC-LOCATION:America/Maceio
BEGIN:STANDARD
DTSTART:20020216T230000
TZNAME:-03
TZOFFSETFROM:-0200
TZOFFSETTO:-0300
END:STANDARD
END:VTIMEZONE
END:VCALENDAR
