BEGIN:VCALENDAR
VERSION:2.0
PRODID:-//Plone.org//NONSGML plone.app.event//EN
X-WR-TIMEZONE:America/Maceio
BEGIN:VEVENT
SUMMARY:Banca de Defesa de Dissertação
DTSTART;TZID=America/Maceio:20180525T140000
DTEND;TZID=America/Maceio:20180525T160000
DTSTAMP:20260420T182400Z
UID:e715d4de3d414e4b88ff4f90d339b5b0@ip.ufal.br
ATTENDEE;CN="Banca Examinadora: Prof.ª Dr.ª Maria Auxiliadora Teixeira R
 ibeiro (Orientadora);";ROLE=REQ-PARTICIPANT:Banca Examinadora: Prof.ª Dr.
 ª Maria Auxiliadora Teixeira Ribeiro (Orientadora);
ATTENDEE;CN="Prof.ª Dr.ª Telma Low S. Junqueira (IP/UFAL);";ROLE=REQ-PAR
 TICIPANT:Prof.ª Dr.ª Telma Low S. Junqueira (IP/UFAL);
ATTENDEE;CN="Prof. Dr. Benedito Medrado Dantas (UFPE).";ROLE=REQ-PARTICIPA
 NT:Prof. Dr. Benedito Medrado Dantas (UFPE).
CREATED:20180417T180338Z
DESCRIPTION:Banca de Defesa de Dissertação para obtenção do título de
  Mestre de Niedja Mara Silva Fontes de Deus\, com o título: "Em nome da m
 ãe: Análise de repertórios linguísticos sobre a maternidade no sistema
  prisional".
LAST-MODIFIED:20250702T221510Z
LOCATION:Instituto de Psicologia\, sala nº 33
URL:https://ip.ufal.br/pt-br/pos-graduacao/pospsico/institucional/calendar
 io-de-defesas/defesas-em-2018/banca-de-defesa-de-dissertacao-7
END:VEVENT
BEGIN:VTIMEZONE
TZID:America/Maceio
X-LIC-LOCATION:America/Maceio
BEGIN:STANDARD
DTSTART:20020216T230000
TZNAME:-03
TZOFFSETFROM:-0200
TZOFFSETTO:-0300
END:STANDARD
END:VTIMEZONE
END:VCALENDAR
