BEGIN:VCALENDAR
VERSION:2.0
PRODID:-//Plone.org//NONSGML plone.app.event//EN
X-WR-TIMEZONE:America/Maceio
BEGIN:VEVENT
SUMMARY:Banca de Defesa de Dissertação
DTSTART;TZID=America/Maceio:20180427T100000
DTEND;TZID=America/Maceio:20180427T120000
DTSTAMP:20260420T170304Z
UID:fbed3e0fc19a4fc29d82a8431deca311@ip.ufal.br
ATTENDEE;CN="Banca Examinadora: Prof.ª Dr.ª Heliane de Almeida Lins Leit
 ão (Orientadora);";ROLE=REQ-PARTICIPANT:Banca Examinadora: Prof.ª Dr.ª 
 Heliane de Almeida Lins Leitão (Orientadora);
ATTENDEE;CN="Prof.ª Dr.ª Susane Vasconcelos Zanotti (PPGP/UFAL);";ROLE=R
 EQ-PARTICIPANT:Prof.ª Dr.ª Susane Vasconcelos Zanotti (PPGP/UFAL);
ATTENDEE;CN="Prof.ª Dr.ª Deise Juliana Francisco (CEDU/UFAL).";ROLE=REQ-
 PARTICIPANT:Prof.ª Dr.ª Deise Juliana Francisco (CEDU/UFAL).
CREATED:20180419T164351Z
DESCRIPTION:Banca de Defesa de Dissertação para obtenção do título de
  Mestre de Marianna Lima de Rolemberg Figueirêdo\, com o título: "Acompa
 nhamento terapêutico com crianças: contribuições de Winnicott para a a
 tenção psicossocial"
LAST-MODIFIED:20250702T221510Z
LOCATION:Sala de Aula do LCCV-Laboratório de Computação Científica e V
 isualização UFAL
URL:https://ip.ufal.br/pt-br/pos-graduacao/pospsico/institucional/calendar
 io-de-defesas/defesas-em-2018/banca-de-defesa-de-dissertacao-6
END:VEVENT
BEGIN:VTIMEZONE
TZID:America/Maceio
X-LIC-LOCATION:America/Maceio
BEGIN:STANDARD
DTSTART:20020216T230000
TZNAME:-03
TZOFFSETFROM:-0200
TZOFFSETTO:-0300
END:STANDARD
END:VTIMEZONE
END:VCALENDAR
