BEGIN:VCALENDAR
VERSION:2.0
PRODID:-//Plone.org//NONSGML plone.app.event//EN
X-WR-TIMEZONE:America/Maceio
BEGIN:VEVENT
SUMMARY:Banca de Defesa de Dissertação
DTSTART;TZID=America/Maceio:20180426T150000
DTEND;TZID=America/Maceio:20180426T170000
DTSTAMP:20260420T182400Z
UID:562929fda1674b8b9ad7034c415dd213@ip.ufal.br
ATTENDEE;CN="Banca Examinadora: Prof.ª Dr.ª Susane Vasconcelos Zanotti (
 Orientadora);";ROLE=REQ-PARTICIPANT:Banca Examinadora: Prof.ª Dr.ª Susan
 e Vasconcelos Zanotti (Orientadora);
ATTENDEE;CN="Prof. Dr. Charles Elias Lang (PPGP/UFAL);";ROLE=REQ-PARTICIPA
 NT:Prof. Dr. Charles Elias Lang (PPGP/UFAL);
ATTENDEE;CN="Prof. Dr. Christian Ingo Lenz Dunker (USP);";ROLE=REQ-PARTICI
 PANT:Prof. Dr. Christian Ingo Lenz Dunker (USP);
ATTENDEE;CN="Prof. Dr. Antônio Márcio Ribeiro Teixeira (UFMG).";ROLE=REQ
 -PARTICIPANT:Prof. Dr. Antônio Márcio Ribeiro Teixeira (UFMG).
CREATED:20180419T162121Z
DESCRIPTION:Banca de Defesa de Dissertação para obtenção do título de
  Mestre de Keilah Freitas Gerber\, com o título: "Teu nome é minha heran
 ça: a nomeação a partir da psicanálise lacaniana"
LAST-MODIFIED:20250702T221510Z
LOCATION:Sala de Aula do LCCV-Laboratório de Computação Científica e V
 isualização UFAL
URL:https://ip.ufal.br/pt-br/pos-graduacao/pospsico/institucional/calendar
 io-de-defesas/defesas-em-2018/banca-de-defesa-de-dissertacao-5
END:VEVENT
BEGIN:VTIMEZONE
TZID:America/Maceio
X-LIC-LOCATION:America/Maceio
BEGIN:STANDARD
DTSTART:20020216T230000
TZNAME:-03
TZOFFSETFROM:-0200
TZOFFSETTO:-0300
END:STANDARD
END:VTIMEZONE
END:VCALENDAR
