BEGIN:VCALENDAR
VERSION:2.0
PRODID:-//Plone.org//NONSGML plone.app.event//EN
X-WR-TIMEZONE:America/Maceio
BEGIN:VEVENT
SUMMARY:Banca de Defesa de Dissertação
DTSTART;TZID=America/Maceio:20180418T103000
DTEND;TZID=America/Maceio:20180418T123000
DTSTAMP:20260420T180107Z
UID:f6ed662f84654c34aa1fe9d4c929df05@ip.ufal.br
ATTENDEE;CN="Banca Examinadora: Prof.ª Dr.ª Nadja Maria Vieira (Orientad
 ora);";ROLE=REQ-PARTICIPANT:Banca Examinadora: Prof.ª Dr.ª Nadja Maria V
 ieira (Orientadora);
ATTENDEE;CN="Prof.ª Dr.ª Maria Auxiliadora Teixeira Ribeiro (PPGP/UFAL);
 ";ROLE=REQ-PARTICIPANT:Prof.ª Dr.ª Maria Auxiliadora Teixeira Ribeiro (P
 PGP/UFAL);
ATTENDEE;CN="Prof.ª Dr.ª Rita de Cássia Souto Maior Siqueira Lima (UFAL
 ).";ROLE=REQ-PARTICIPANT:Prof.ª Dr.ª Rita de Cássia Souto Maior Siqueir
 a Lima (UFAL).
CREATED:20180403T192504Z
DESCRIPTION:Banca de Defesa de Dissertação para obtenção do título de
  Mestre de Priscila Moura Guimarães\, com o título: "Narrativas autobiog
 ráficas de adultos em situação de rua: considerações sobre metodologi
 as na psicologia cultural".
LAST-MODIFIED:20250702T221510Z
LOCATION:Instituto de Psicologia\, sala nº 33
URL:https://ip.ufal.br/pt-br/pos-graduacao/pospsico/institucional/calendar
 io-de-defesas/defesas-em-2018/banca-de-defesa-de-dissertacao-4
END:VEVENT
BEGIN:VTIMEZONE
TZID:America/Maceio
X-LIC-LOCATION:America/Maceio
BEGIN:STANDARD
DTSTART:20020216T230000
TZNAME:-03
TZOFFSETFROM:-0200
TZOFFSETTO:-0300
END:STANDARD
END:VTIMEZONE
END:VCALENDAR
