BEGIN:VCALENDAR
VERSION:2.0
PRODID:-//Plone.org//NONSGML plone.app.event//EN
X-WR-TIMEZONE:America/Maceio
BEGIN:VEVENT
SUMMARY:Banca de Defesa de Dissertação
DTSTART;TZID=America/Maceio:20180413T103000
DTEND;TZID=America/Maceio:20180413T123000
DTSTAMP:20260420T182401Z
UID:fa953699fa014d74b8c4118199286c07@ip.ufal.br
ATTENDEE;CN="Banca Examinadora: Prof. Dr. Charles Elias Lang (Orientador);
 ";ROLE=REQ-PARTICIPANT:Banca Examinadora: Prof. Dr. Charles Elias Lang (Or
 ientador);
ATTENDEE;CN="Prof.ª Dr.ª Susane Vasconcelos Zanotti (PPGP/UFAL);";ROLE=R
 EQ-PARTICIPANT:Prof.ª Dr.ª Susane Vasconcelos Zanotti (PPGP/UFAL);
ATTENDEE;CN="Prof.ª Dr.ª Marta Regina D'Agord Leão (UFRS).";ROLE=REQ-PA
 RTICIPANT:Prof.ª Dr.ª Marta Regina D'Agord Leão (UFRS).
CREATED:20180403T190653Z
DESCRIPTION:Banca de Defesa de Dissertação para obtenção do título de
  Mestre de Ana Carolina do Rosário Correia\, com o título: "Mutações c
 ulturais\, mutações subjetivas: uma leitura de Charles Melman".
LAST-MODIFIED:20250702T221510Z
LOCATION:Instituto de Psicologia\, sala nº 33
URL:https://ip.ufal.br/pt-br/pos-graduacao/pospsico/institucional/calendar
 io-de-defesas/defesas-em-2018/banca-de-defesa-de-dissertacao-3
END:VEVENT
BEGIN:VTIMEZONE
TZID:America/Maceio
X-LIC-LOCATION:America/Maceio
BEGIN:STANDARD
DTSTART:20020216T230000
TZNAME:-03
TZOFFSETFROM:-0200
TZOFFSETTO:-0300
END:STANDARD
END:VTIMEZONE
END:VCALENDAR
