BEGIN:VCALENDAR
VERSION:2.0
PRODID:-//Plone.org//NONSGML plone.app.event//EN
X-WR-TIMEZONE:America/Maceio
BEGIN:VEVENT
SUMMARY:Banca de Defesa de Dissertação
DTSTART;TZID=America/Maceio:20180514T093000
DTEND;TZID=America/Maceio:20180514T113000
DTSTAMP:20260420T174850Z
UID:7172f172149644fa8b152bd00e4d6ed9@ip.ufal.br
ATTENDEE;CN="Banca Examinadora: Prof. Dr. Charles Elias Lang (Orientador);
 ";ROLE=REQ-PARTICIPANT:Banca Examinadora: Prof. Dr. Charles Elias Lang (Or
 ientador);
ATTENDEE;CN="Prof. Dr. Jefferson de Souza Bernardes (PPGP/UFAL);";ROLE=REQ
 -PARTICIPANT:Prof. Dr. Jefferson de Souza Bernardes (PPGP/UFAL);
ATTENDEE;CN="Prof. Dr. André Martins Vilar de Carvalho (UFRJ).";ROLE=REQ-
 PARTICIPANT:Prof. Dr. André Martins Vilar de Carvalho (UFRJ).
CREATED:20180412T164329Z
DESCRIPTION:Banca de Defesa de Dissertação para obtenção do título de
  Mestre de Pablo Rocha Ibañez\, com o título: "Spinoza e a estética do 
 desejo: Filosofia prática e aplicação clínica".
LAST-MODIFIED:20250702T221510Z
LOCATION:Instituto de Psicologia\, sala nº 33
URL:https://ip.ufal.br/pt-br/pos-graduacao/pospsico/institucional/calendar
 io-de-defesas/defesas-em-2018/banca-de-defesa-de-dissertacao-2
END:VEVENT
BEGIN:VTIMEZONE
TZID:America/Maceio
X-LIC-LOCATION:America/Maceio
BEGIN:STANDARD
DTSTART:20020216T230000
TZNAME:-03
TZOFFSETFROM:-0200
TZOFFSETTO:-0300
END:STANDARD
END:VTIMEZONE
END:VCALENDAR
