BEGIN:VCALENDAR
VERSION:2.0
PRODID:-//Plone.org//NONSGML plone.app.event//EN
X-WR-TIMEZONE:America/Maceio
BEGIN:VEVENT
SUMMARY:Banca de Defesa de Dissertação
DTSTART;TZID=America/Maceio:20181010T100000
DTEND;TZID=America/Maceio:20181010T120000
DTSTAMP:20260420T152425Z
UID:0cfa3ebdc43248cfa4c28990d81a66d0@ip.ufal.br
ATTENDEE;CN="Banca Examinadora: Prof.ª Dr.ª Nadja Maria Vieira (Orientad
 ora);";ROLE=REQ-PARTICIPANT:Banca Examinadora: Prof.ª Dr.ª Nadja Maria V
 ieira (Orientadora);
ATTENDEE;CN="Prof.ª Dr.ª Maria Auxiliadora Teixeira Ribeiro (PPGP/UFAL);
 ";ROLE=REQ-PARTICIPANT:Prof.ª Dr.ª Maria Auxiliadora Teixeira Ribeiro (P
 PGP/UFAL);
ATTENDEE;CN="Prof.ª Dr.ª Maria Dolores Fortes Alves (PPGE/UFAL).";ROLE=R
 EQ-PARTICIPANT:Prof.ª Dr.ª Maria Dolores Fortes Alves (PPGE/UFAL).
CREATED:20181008T162531Z
DESCRIPTION:Banca de Defesa de Dissertação para obtenção do título de
  Mestre de Graziane Valeriano Nunes\, com o título: "A relação entre at
 enção compartilhada e processos de significação no desenvolvimento de 
 crianças com transtornos do espectro autista".
LAST-MODIFIED:20250702T221510Z
LOCATION:Instituto de Psicologia\, sala nº 33
URL:https://ip.ufal.br/pt-br/pos-graduacao/pospsico/institucional/calendar
 io-de-defesas/defesas-em-2018/banca-de-defesa-de-dissertacao-14
END:VEVENT
BEGIN:VTIMEZONE
TZID:America/Maceio
X-LIC-LOCATION:America/Maceio
BEGIN:STANDARD
DTSTART:20020216T230000
TZNAME:-03
TZOFFSETFROM:-0200
TZOFFSETTO:-0300
END:STANDARD
END:VTIMEZONE
END:VCALENDAR
