BEGIN:VCALENDAR
VERSION:2.0
PRODID:-//Plone.org//NONSGML plone.app.event//EN
X-WR-TIMEZONE:America/Maceio
BEGIN:VEVENT
SUMMARY:Banca de Defesa de Dissertação
DTSTART;TZID=America/Maceio:20180928T140000
DTEND;TZID=America/Maceio:20180928T160000
DTSTAMP:20260420T172404Z
UID:e47c6229a477409392dbbc248d6ed6b5@ip.ufal.br
ATTENDEE;CN="Banca Examinadora: Prof. Dr. Jefferson de Souza Bernardes (Or
 ientador);";ROLE=REQ-PARTICIPANT:Banca Examinadora: Prof. Dr. Jefferson de
  Souza Bernardes (Orientador);
ATTENDEE;CN="Profª. Drª. Maria Auxiliadora Teixeira Ribeiro (PPGP/UFAL);
 ";ROLE=REQ-PARTICIPANT:Profª. Drª. Maria Auxiliadora Teixeira Ribeiro (P
 PGP/UFAL);
ATTENDEE;CN="Profª. Drª. Eliana Goldfarb Cyrino (FMB/UNESP).";ROLE=REQ-P
 ARTICIPANT:Profª. Drª. Eliana Goldfarb Cyrino (FMB/UNESP).
CREATED:20180913T171707Z
DESCRIPTION:Banca de Defesa de Dissertação para obtenção do título de
  Mestre de Aline Lopes de Santana\, com o título: "Formação profissiona
 l em psicologia pelo trabalho para a saúde - revisão dialógica da liter
 atura".
LAST-MODIFIED:20250702T221510Z
LOCATION:Sala 33\, no Instituto de Psicologia da UFAL.
URL:https://ip.ufal.br/pt-br/pos-graduacao/pospsico/institucional/calendar
 io-de-defesas/defesas-em-2018/banca-de-defesa-de-dissertacao-13
END:VEVENT
BEGIN:VTIMEZONE
TZID:America/Maceio
X-LIC-LOCATION:America/Maceio
BEGIN:STANDARD
DTSTART:20020216T230000
TZNAME:-03
TZOFFSETFROM:-0200
TZOFFSETTO:-0300
END:STANDARD
END:VTIMEZONE
END:VCALENDAR
