BEGIN:VCALENDAR
VERSION:2.0
PRODID:-//Plone.org//NONSGML plone.app.event//EN
X-WR-TIMEZONE:America/Maceio
BEGIN:VEVENT
SUMMARY:Banca de Defesa de Dissertação
DTSTART;TZID=America/Maceio:20180927T100000
DTEND;TZID=America/Maceio:20180927T120000
DTSTAMP:20260420T172404Z
UID:11284aadacfe4c99b3edfc963e9d93aa@ip.ufal.br
ATTENDEE;CN="Banca Examinadora: Prof. Dr. Jefferson de Souza Bernardes (Or
 ientador);";ROLE=REQ-PARTICIPANT:Banca Examinadora: Prof. Dr. Jefferson de
  Souza Bernardes (Orientador);
ATTENDEE;CN="Profª. Drª. Maria Auxiliadora Teixeira Ribeiro (PPGP/UFAL);
 ";ROLE=REQ-PARTICIPANT:Profª. Drª. Maria Auxiliadora Teixeira Ribeiro (P
 PGP/UFAL);
ATTENDEE;CN="Profª. Drª. Cristina Camelo de Azevedo (IP/UFAL).";ROLE=REQ
 -PARTICIPANT:Profª. Drª. Cristina Camelo de Azevedo (IP/UFAL).
CREATED:20180918T163623Z
DESCRIPTION:Banca de Defesa de Dissertação para obtenção do título de
  Mestre de Bárbara Tereza Brandão Guerreiro Barbosa\, com o título: "Sa
 úde-adoecimento e trabalho no Instituto Federal de Alagoas".
LAST-MODIFIED:20250702T221510Z
LOCATION:Sala 33\, no Instituto de Psicologia da UFAL.
URL:https://ip.ufal.br/pt-br/pos-graduacao/pospsico/institucional/calendar
 io-de-defesas/defesas-em-2018/banca-de-defesa-de-dissertacao-12
END:VEVENT
BEGIN:VTIMEZONE
TZID:America/Maceio
X-LIC-LOCATION:America/Maceio
BEGIN:STANDARD
DTSTART:20020216T230000
TZNAME:-03
TZOFFSETFROM:-0200
TZOFFSETTO:-0300
END:STANDARD
END:VTIMEZONE
END:VCALENDAR
