BEGIN:VCALENDAR
VERSION:2.0
PRODID:-//Plone.org//NONSGML plone.app.event//EN
X-WR-TIMEZONE:America/Maceio
BEGIN:VEVENT
SUMMARY:Banca de Defesa de Dissertação
DTSTART;TZID=America/Maceio:20180720T090000
DTEND;TZID=America/Maceio:20180720T110000
DTSTAMP:20260420T172404Z
UID:c00ede2aca9d4b6ba780437c37dd6dcf@ip.ufal.br
ATTENDEE;CN="Banca Examinadora: Prof. Dr. Marcos Ribeiro Mesquita (Orienta
 dor);";ROLE=REQ-PARTICIPANT:Banca Examinadora: Prof. Dr. Marcos Ribeiro Me
 squita (Orientador);
ATTENDEE;CN="Prof.ª Dr.ª Telma Low S. Junqueira (IP/UFAL);";ROLE=REQ-PAR
 TICIPANT:Prof.ª Dr.ª Telma Low S. Junqueira (IP/UFAL);
ATTENDEE;CN="Prof.ª Dr.ª Claudia Andréa Mayorga Borges (UFMG).";ROLE=RE
 Q-PARTICIPANT:Prof.ª Dr.ª Claudia Andréa Mayorga Borges (UFMG).
CREATED:20180710T164543Z
DESCRIPTION:Banca de Defesa de Dissertação para obtenção do título de
  Mestre de Ana Cecília Ramos Ferreira da Silva\, com o título: "Gênero\
 , Geração e Raça: uma análise interseccional das trajetórias de milit
 ância de mulheres negras jovens feministas".
LAST-MODIFIED:20250702T221510Z
LOCATION:Sala 33\, no Instituto de Psicologia da UFAL.
URL:https://ip.ufal.br/pt-br/pos-graduacao/pospsico/institucional/calendar
 io-de-defesas/defesas-em-2018/banca-de-defesa-de-dissertacao-11
END:VEVENT
BEGIN:VTIMEZONE
TZID:America/Maceio
X-LIC-LOCATION:America/Maceio
BEGIN:STANDARD
DTSTART:20020216T230000
TZNAME:-03
TZOFFSETFROM:-0200
TZOFFSETTO:-0300
END:STANDARD
END:VTIMEZONE
END:VCALENDAR
