BEGIN:VCALENDAR
VERSION:2.0
PRODID:-//Plone.org//NONSGML plone.app.event//EN
X-WR-TIMEZONE:America/Maceio
BEGIN:VEVENT
SUMMARY:Banca de Defesa de Dissertação
DTSTART;TZID=America/Maceio:20180706T090000
DTEND;TZID=America/Maceio:20180706T110000
DTSTAMP:20260420T165547Z
UID:dc6a9383d5e747cd95868e6022677677@ip.ufal.br
ATTENDEE;CN="Banca Examinadora: Prof. Dr. Raner Miguel Ferreira Póvoa (Or
 ientador);";ROLE=REQ-PARTICIPANT:Banca Examinadora: Prof. Dr. Raner Miguel
  Ferreira Póvoa (Orientador);
ATTENDEE;CN="Prof.ª Dr.ª Sheyla Christine Santos Fernandes (PPGP/UFAL);"
 ;ROLE=REQ-PARTICIPANT:Prof.ª Dr.ª Sheyla Christine Santos Fernandes (PPG
 P/UFAL);
ATTENDEE;CN="Prof. Dr. Jorge Artur Peçanha de Miranda Coelho (FAMED/UFAL)
 .";ROLE=REQ-PARTICIPANT:Prof. Dr. Jorge Artur Peçanha de Miranda Coelho (
 FAMED/UFAL).
CREATED:20180702T174311Z
DESCRIPTION:Banca de Defesa de Dissertação para obtenção do título de
  Mestre de Jessyca Brennand de Paula\, com o título: "Relações entre fu
 nções executivas\, traços de personalidade e o cometimento de infraçõ
 es e acidentes de trânsito por condutores de automóveis".
LAST-MODIFIED:20250702T221510Z
LOCATION:Sala 33\, no Instituto de Psicologia da UFAL.
URL:https://ip.ufal.br/pt-br/pos-graduacao/pospsico/institucional/calendar
 io-de-defesas/defesas-em-2018/banca-de-defesa-de-dissertacao-10
END:VEVENT
BEGIN:VTIMEZONE
TZID:America/Maceio
X-LIC-LOCATION:America/Maceio
BEGIN:STANDARD
DTSTART:20020216T230000
TZNAME:-03
TZOFFSETFROM:-0200
TZOFFSETTO:-0300
END:STANDARD
END:VTIMEZONE
END:VCALENDAR
