BEGIN:VCALENDAR
VERSION:2.0
PRODID:-//Plone.org//NONSGML plone.app.event//EN
X-WR-TIMEZONE:America/Maceio
BEGIN:VEVENT
SUMMARY:Banca de Defesa de Dissertação
DTSTART;TZID=America/Maceio:20180316T090000
DTEND;TZID=America/Maceio:20180316T110000
DTSTAMP:20260420T152426Z
UID:a7b2e151a98b4d0480b8fd5d0e465853@ip.ufal.br
ATTENDEE;CN="Banca Examinadora: Prof. Dr. Raner Miguel Ferreira Póvoa (Or
 ientador);";ROLE=REQ-PARTICIPANT:Banca Examinadora: Prof. Dr. Raner Miguel
  Ferreira Póvoa (Orientador);
ATTENDEE;CN="Prof.ª Dr.ª Sheyla Christine Santos Fernandes (PPGP/UFAL);"
 ;ROLE=REQ-PARTICIPANT:Prof.ª Dr.ª Sheyla Christine Santos Fernandes (PPG
 P/UFAL);
ATTENDEE;CN="Prof. Dr. Jorge Artur Peçanha de Miranda Coelho (UFAL).";ROL
 E=REQ-PARTICIPANT:Prof. Dr. Jorge Artur Peçanha de Miranda Coelho (UFAL).
CREATED:20180402T163204Z
DESCRIPTION:Banca de Defesa de Dissertação para obtenção do título de
  Mestre de Camila Vasconcelos Carnaúba Lima\, com o título: "Funções e
 xecutivas: avaliação neuropsicológica em mulheres com câncer de mama".
LAST-MODIFIED:20250702T221510Z
LOCATION:Instituto de Psicologia\, sala nº 33
URL:https://ip.ufal.br/pt-br/pos-graduacao/pospsico/institucional/calendar
 io-de-defesas/defesas-em-2018/banca-de-defesa-de-dissertacao-1
END:VEVENT
BEGIN:VTIMEZONE
TZID:America/Maceio
X-LIC-LOCATION:America/Maceio
BEGIN:STANDARD
DTSTART:20020216T230000
TZNAME:-03
TZOFFSETFROM:-0200
TZOFFSETTO:-0300
END:STANDARD
END:VTIMEZONE
END:VCALENDAR
