BEGIN:VCALENDAR
VERSION:2.0
PRODID:-//Plone.org//NONSGML plone.app.event//EN
X-WR-TIMEZONE:America/Maceio
BEGIN:VEVENT
SUMMARY:Defesa de Dissertação
DTSTART;TZID=America/Maceio:20160929T160000
DTEND;TZID=America/Maceio:20160929T170000
DTSTAMP:20260420T101039Z
UID:792fc7deb9834c72a8138bb3964a05e0@ip.ufal.br
ATTENDEE;CN="Banca Examinadora:";ROLE=REQ-PARTICIPANT:Banca Examinadora:
ATTENDEE;CN="Profa. Maria Auxiliadora Teixeira Ribeiro (Orientadora)";ROLE
 =REQ-PARTICIPANT:Profa. Maria Auxiliadora Teixeira Ribeiro (Orientadora)
ATTENDEE;CN="Prof. Jefferson de Souza Bernardes";ROLE=REQ-PARTICIPANT:Prof
 . Jefferson de Souza Bernardes
ATTENDEE;CN="Profa. Jacqueline Isaac Machado Brigagão";ROLE=REQ-PARTICIPA
 NT:Profa. Jacqueline Isaac Machado Brigagão
CREATED:20160920T182023Z
DESCRIPTION:Defesa de Dissertação da discente Stephane Juliana Pereira d
 a Silva: "Sentidos produzidos sobre a residência multiprofissional por eg
 ressos de um programa"
LAST-MODIFIED:20250702T221511Z
URL:https://ip.ufal.br/pt-br/pos-graduacao/pospsico/institucional/calendar
 io-de-defesas/defesas-em-2016/defesa-de-dissertacao
END:VEVENT
BEGIN:VTIMEZONE
TZID:America/Maceio
X-LIC-LOCATION:America/Maceio
BEGIN:STANDARD
DTSTART:20020216T230000
TZNAME:-03
TZOFFSETFROM:-0200
TZOFFSETTO:-0300
END:STANDARD
END:VTIMEZONE
END:VCALENDAR
