BEGIN:VCALENDAR
VERSION:2.0
PRODID:-//Plone.org//NONSGML plone.app.event//EN
X-WR-TIMEZONE:America/Maceio
BEGIN:VEVENT
SUMMARY:Defesa de Dissertação
DTSTART;TZID=America/Maceio:20161024T090000
DTEND;TZID=America/Maceio:20161024T110000
DTSTAMP:20260420T152420Z
UID:433d29090c154a3880c9ba3c64239785@ip.ufal.br
ATTENDEE;CN="Participantes	Banca Examinadora:";ROLE=REQ-PARTICIPANT:Partic
 ipantes	Banca Examinadora:
ATTENDEE;CN="Profas. Susane Vasconcelos Zanotti/Adélia Augusta Souto Oliv
 eira";ROLE=REQ-PARTICIPANT:Profas. Susane Vasconcelos Zanotti/Adélia Augu
 sta Souto Oliveira
ATTENDEE;CN="Prof. Charles Elias lang";ROLE=REQ-PARTICIPANT:Prof. Charles 
 Elias lang
ATTENDEE;CN="Profa. Amadeu de Oliveira Weinmann";ROLE=REQ-PARTICIPANT:Prof
 a. Amadeu de Oliveira Weinmann
CREATED:20160920T183050Z
DESCRIPTION:Defesa de Dissertação da discente Marília de Albuquerque To
 rres: "Vergonha e Definição do sexo: um estudo psicanalítico"\n\n\n
LAST-MODIFIED:20250702T221511Z
URL:https://ip.ufal.br/pt-br/pos-graduacao/pospsico/institucional/calendar
 io-de-defesas/defesas-em-2016/defesa-de-dissertacao-1
END:VEVENT
BEGIN:VTIMEZONE
TZID:America/Maceio
X-LIC-LOCATION:America/Maceio
BEGIN:STANDARD
DTSTART:20020216T230000
TZNAME:-03
TZOFFSETFROM:-0200
TZOFFSETTO:-0300
END:STANDARD
END:VTIMEZONE
END:VCALENDAR
