BEGIN:VCALENDAR
VERSION:2.0
PRODID:-//Plone.org//NONSGML plone.app.event//EN
X-WR-TIMEZONE:America/Maceio
BEGIN:VEVENT
SUMMARY:Banca de Defesa de Mestrado
DTSTART;TZID=America/Maceio:20160331T140000
DTEND;TZID=America/Maceio:20160331T150000
DTSTAMP:20260420T174850Z
UID:b2c4db08867844d3a8466f46b7622edc@ip.ufal.br
ATTENDEE;CN="Comisão Examinadora: Prof. Dr. Jefferson de Souza Bernardes 
 - Orientador";ROLE=REQ-PARTICIPANT:Comisão Examinadora: Prof. Dr. Jeffers
 on de Souza Bernardes - Orientador
ATTENDEE;CN="Profa. Dra. Susane Vasconcelos Zanotti (Avaliadora interna - 
 PPGP/UFAL).";ROLE=REQ-PARTICIPANT:Profa. Dra. Susane Vasconcelos Zanotti (
 Avaliadora interna - PPGP/UFAL).
ATTENDEE;CN="Profa. Dra. Jacqueline Issac Machado Brigagão (Avaliadora ex
 terna - USP).";ROLE=REQ-PARTICIPANT:Profa. Dra. Jacqueline Issac Machado B
 rigagão (Avaliadora externa - USP).
CREATED:20160331T003931Z
DESCRIPTION:Banca de defesa de dissertação para obtenção do título de
  Mestre da discente Eyre Malena Ferreira Figuerêdo. Título: " Donatio: p
 resentear ou estar presente? A produção de sentidos na doação de órg
 ãos".
LAST-MODIFIED:20250702T221511Z
LOCATION:Sala de reunião nº 02 do Laboratório de Computação Científi
 ca e Visualização
URL:https://ip.ufal.br/pt-br/pos-graduacao/pospsico/institucional/calendar
 io-de-defesas/defesas-em-2016/banca-de-defesa-de-mestrado
END:VEVENT
BEGIN:VTIMEZONE
TZID:America/Maceio
X-LIC-LOCATION:America/Maceio
BEGIN:STANDARD
DTSTART:20020216T230000
TZNAME:-03
TZOFFSETFROM:-0200
TZOFFSETTO:-0300
END:STANDARD
END:VTIMEZONE
END:VCALENDAR
