BEGIN:VCALENDAR
VERSION:2.0
PRODID:-//Plone.org//NONSGML plone.app.event//EN
X-WR-TIMEZONE:America/Maceio
BEGIN:VEVENT
SUMMARY:Banca de defesa de dissertação
DTSTART;TZID=America/Maceio:20160315T140000
DTEND;TZID=America/Maceio:20160315T160000
DTSTAMP:20260420T114421Z
UID:5be87ff967ab440e99fedb8b532cdac2@ip.ufal.br
ATTENDEE;CN="Profa. Dra. Susane Vasconcelos Zanotti (Orientadora)";ROLE=RE
 Q-PARTICIPANT:Profa. Dra. Susane Vasconcelos Zanotti (Orientadora)
ATTENDEE;CN="Banca: Profa. Dra. Edilene Freire de Queiroz (UNICAP)";ROLE=R
 EQ-PARTICIPANT:Banca: Profa. Dra. Edilene Freire de Queiroz (UNICAP)
ATTENDEE;CN="Prof. Charles Elias Lang (UFAL)";ROLE=REQ-PARTICIPANT:Prof. C
 harles Elias Lang (UFAL)
CREATED:20160309T145311Z
DESCRIPTION:Banca de defesa de Dissertação para obtenção do título de
  Mestre do discente Thiago Félix Mauricio. \nTítulo: “O estádio do es
 pelho e a constituição do eu na esquizofrenia”
LAST-MODIFIED:20250702T221511Z
LOCATION:Laboratório de Computação Científica e Visualização da Univ
 ersidade Federal de Alagoas
URL:https://ip.ufal.br/pt-br/pos-graduacao/pospsico/institucional/calendar
 io-de-defesas/defesas-em-2016/banca-de-defesa-de-dissertacao
END:VEVENT
BEGIN:VTIMEZONE
TZID:America/Maceio
X-LIC-LOCATION:America/Maceio
BEGIN:STANDARD
DTSTART:20020216T230000
TZNAME:-03
TZOFFSETFROM:-0200
TZOFFSETTO:-0300
END:STANDARD
END:VTIMEZONE
END:VCALENDAR
