BEGIN:VCALENDAR
VERSION:2.0
PRODID:-//Plone.org//NONSGML plone.app.event//EN
X-WR-TIMEZONE:America/Maceio
BEGIN:VEVENT
SUMMARY:Banca de defesa de dissertação
DTSTART;TZID=America/Maceio:20160607T140000
DTEND;TZID=America/Maceio:20160607T152500
DTSTAMP:20260420T174848Z
UID:f2ae9d77c9c54f708d4748476a1b1c3f@ip.ufal.br
ATTENDEE;CN="Banca Examinadora:";ROLE=REQ-PARTICIPANT:Banca Examinadora:
ATTENDEE;CN="Profa. Dra. Nadja Maria Vieira - Orientadora";ROLE=REQ-PARTIC
 IPANT:Profa. Dra. Nadja Maria Vieira - Orientadora
ATTENDEE;CN="Prof. Dr. Henrique Jorge Simões";ROLE=REQ-PARTICIPANT:Prof. 
 Dr. Henrique Jorge Simões
ATTENDEE;CN="Prof. Dr. Frederico Alves Costa";ROLE=REQ-PARTICIPANT:Prof. D
 r. Frederico Alves Costa
ATTENDEE;CN="Profa. Dra. Susana Souto Silva - Examinadora externa (PPGLL/U
 FAL)";ROLE=REQ-PARTICIPANT:Profa. Dra. Susana Souto Silva - Examinadora ex
 terna (PPGLL/UFAL)
CREATED:20160601T103130Z
DESCRIPTION:Banca de defesa de dissertação da discente Hélton Walner So
 uto Santos: "Interfaces entre psicologia cultural e a literatura de cordel
 : o problema ético e estético da mediação semiótica".\n
LAST-MODIFIED:20250702T221511Z
LOCATION:Sala 33 do IP
URL:https://ip.ufal.br/pt-br/pos-graduacao/pospsico/institucional/calendar
 io-de-defesas/defesas-em-2016/banca-de-defesa-de-dissertacao-9
END:VEVENT
BEGIN:VTIMEZONE
TZID:America/Maceio
X-LIC-LOCATION:America/Maceio
BEGIN:STANDARD
DTSTART:20020216T230000
TZNAME:-03
TZOFFSETFROM:-0200
TZOFFSETTO:-0300
END:STANDARD
END:VTIMEZONE
END:VCALENDAR
