BEGIN:VCALENDAR
VERSION:2.0
PRODID:-//Plone.org//NONSGML plone.app.event//EN
X-WR-TIMEZONE:America/Maceio
BEGIN:VEVENT
SUMMARY:Banca de defesa de dissertação
DTSTART;TZID=America/Maceio:20160606T090000
DTEND;TZID=America/Maceio:20160606T113000
DTSTAMP:20260420T123711Z
UID:a520eb7fb4f64b67a9912d49a04d0d11@ip.ufal.br
ATTENDEE;CN="Banca Examinadora:";ROLE=REQ-PARTICIPANT:Banca Examinadora:
ATTENDEE;CN="Prof. Dr. Marcos Ribeiro Mesquita - Orientador";ROLE=REQ-PART
 ICIPANT:Prof. Dr. Marcos Ribeiro Mesquita - Orientador
ATTENDEE;CN="Prof. Dr. Aurélio Máximo Prado (UFMG)";ROLE=REQ-PARTICIPANT
 :Prof. Dr. Aurélio Máximo Prado (UFMG)
ATTENDEE;CN="Profa. Dra. Amanda Mattos (UERJ)";ROLE=REQ-PARTICIPANT:Profa.
  Dra. Amanda Mattos (UERJ)
ATTENDEE;CN="Prof. Dr. Frederico Alves Costa (PPGP/UFAL)";ROLE=REQ-PARTICI
 PANT:Prof. Dr. Frederico Alves Costa (PPGP/UFAL)
CREATED:20160512T141106Z
DESCRIPTION:Banca de defesa de dissertação da discente Juliano Bonfim do
 s Santos: "Além da camisinha na banana: a experiência da participação 
 de jovens nas discussões sobre diversidade sexual e gênero na escola".
LAST-MODIFIED:20250702T221511Z
LOCATION:Sala 33 do IP
URL:https://ip.ufal.br/pt-br/pos-graduacao/pospsico/institucional/calendar
 io-de-defesas/defesas-em-2016/banca-de-defesa-de-dissertacao-8
END:VEVENT
BEGIN:VTIMEZONE
TZID:America/Maceio
X-LIC-LOCATION:America/Maceio
BEGIN:STANDARD
DTSTART:20020216T230000
TZNAME:-03
TZOFFSETFROM:-0200
TZOFFSETTO:-0300
END:STANDARD
END:VTIMEZONE
END:VCALENDAR
