BEGIN:VCALENDAR
VERSION:2.0
PRODID:-//Plone.org//NONSGML plone.app.event//EN
X-WR-TIMEZONE:America/Maceio
BEGIN:VEVENT
SUMMARY:Banca de defesa de dissertação
DTSTART;TZID=America/Maceio:20160607T090000
DTEND;TZID=America/Maceio:20160607T102500
DTSTAMP:20260420T174848Z
UID:fbc65b2358234335aee500d1a7d78d77@ip.ufal.br
ATTENDEE;CN="Banca Examinadora:";ROLE=REQ-PARTICIPANT:Banca Examinadora:
ATTENDEE;CN="Prof. Dr. Henrique Jorge Simões Bezerra - Orientador";ROLE=R
 EQ-PARTICIPANT:Prof. Dr. Henrique Jorge Simões Bezerra - Orientador
ATTENDEE;CN="Profa. Dra. Nadja Maria Vieira da Silva";ROLE=REQ-PARTICIPANT
 :Profa. Dra. Nadja Maria Vieira da Silva
ATTENDEE;CN="Profa. Dra. Melysa Kellyane Cavalcanti Galdino";ROLE=REQ-PART
 ICIPANT:Profa. Dra. Melysa Kellyane Cavalcanti Galdino
CREATED:20160511T143210Z
DESCRIPTION:Banca de defesa de dissertação da discente Clarissa Tenório
  Ribeiro Bernardes: "Competência e Habilidades na Formação em Psicologi
 a: Os Desafios do Saber-Fazer".
LAST-MODIFIED:20250702T221511Z
LOCATION:Sala 33 do IP
URL:https://ip.ufal.br/pt-br/pos-graduacao/pospsico/institucional/calendar
 io-de-defesas/defesas-em-2016/banca-de-defesa-de-dissertacao-7
END:VEVENT
BEGIN:VTIMEZONE
TZID:America/Maceio
X-LIC-LOCATION:America/Maceio
BEGIN:STANDARD
DTSTART:20020216T230000
TZNAME:-03
TZOFFSETFROM:-0200
TZOFFSETTO:-0300
END:STANDARD
END:VTIMEZONE
END:VCALENDAR
