BEGIN:VCALENDAR
VERSION:2.0
PRODID:-//Plone.org//NONSGML plone.app.event//EN
X-WR-TIMEZONE:America/Maceio
BEGIN:VEVENT
SUMMARY:Banca de defesa de dissertação
DTSTART;TZID=America/Maceio:20160606T133000
DTEND;TZID=America/Maceio:20160606T150000
DTSTAMP:20260420T135936Z
UID:5b59b08a906f4acc907451f6253cd354@ip.ufal.br
ATTENDEE;CN="Banca Examinadora:";ROLE=REQ-PARTICIPANT:Banca Examinadora:
ATTENDEE;CN="Profa. Dra. Simone Maria Hüning - Orientadora";ROLE=REQ-PART
 ICIPANT:Profa. Dra. Simone Maria Hüning - Orientadora
ATTENDEE;CN="Profa. Dra. Neuza Maria de Fátima Guareschi (UFRGS - PPGPSI)
 ";ROLE=REQ-PARTICIPANT:Profa. Dra. Neuza Maria de Fátima Guareschi (UFRGS
  - PPGPSI)
ATTENDEE;CN="Dr. Marcos Adegas Azambuja (Centro Universitário Franciscano
  - UNIFRA)";ROLE=REQ-PARTICIPANT:Dr. Marcos Adegas Azambuja (Centro Univer
 sitário Franciscano - UNIFRA)
CREATED:20160511T135433Z
DESCRIPTION:Banca de defesa de dissertação da discente Vanderli Melo da 
 Silva: "A constituição dos processos de urbanização como objeto da psi
 cologia no Brasil".
LAST-MODIFIED:20250702T221511Z
LOCATION:Sala 33 do IP
URL:https://ip.ufal.br/pt-br/pos-graduacao/pospsico/institucional/calendar
 io-de-defesas/defesas-em-2016/banca-de-defesa-de-dissertacao-6
END:VEVENT
BEGIN:VTIMEZONE
TZID:America/Maceio
X-LIC-LOCATION:America/Maceio
BEGIN:STANDARD
DTSTART:20020216T230000
TZNAME:-03
TZOFFSETFROM:-0200
TZOFFSETTO:-0300
END:STANDARD
END:VTIMEZONE
END:VCALENDAR
