BEGIN:VCALENDAR
VERSION:2.0
PRODID:-//Plone.org//NONSGML plone.app.event//EN
X-WR-TIMEZONE:America/Maceio
BEGIN:VEVENT
SUMMARY:Banca de defesa de dissertação
DTSTART;TZID=America/Maceio:20160510T090000
DTEND;TZID=America/Maceio:20160510T101000
DTSTAMP:20260420T222328Z
UID:2bc7448092d24acb88a125c1c80be5f2@ip.ufal.br
ATTENDEE;CN="Banca de Defesa:";ROLE=REQ-PARTICIPANT:Banca de Defesa:
ATTENDEE;CN="Prof. Dr. Marcos Ribeiro Mesquita - Orientador(PPGP/UFAL)";RO
 LE=REQ-PARTICIPANT:Prof. Dr. Marcos Ribeiro Mesquita - Orientador(PPGP/UFA
 L)
ATTENDEE;CN="Prof. Dr. Marco Aurélio Máximo Prado (UFMG)";ROLE=REQ-PARTI
 CIPANT:Prof. Dr. Marco Aurélio Máximo Prado (UFMG)
ATTENDEE;CN="Prof. Dr. Frederico Alves Costa (PPGP/UFAL)";ROLE=REQ-PARTICI
 PANT:Prof. Dr. Frederico Alves Costa (PPGP/UFAL)
CREATED:20160509T191550Z
DESCRIPTION:Banca de defesa de dissertação da discente Caroline Cavalcan
 te Lins Silva: "Da busca pela vida: O ativismo político de travestis e tr
 ansexuais na cidade de Maceió/AL.
LAST-MODIFIED:20250702T221511Z
LOCATION:Sala 33 do IP
URL:https://ip.ufal.br/pt-br/pos-graduacao/pospsico/institucional/calendar
 io-de-defesas/defesas-em-2016/banca-de-defesa-de-dissertacao-5
END:VEVENT
BEGIN:VTIMEZONE
TZID:America/Maceio
X-LIC-LOCATION:America/Maceio
BEGIN:STANDARD
DTSTART:20020216T230000
TZNAME:-03
TZOFFSETFROM:-0200
TZOFFSETTO:-0300
END:STANDARD
END:VTIMEZONE
END:VCALENDAR
