BEGIN:VCALENDAR
VERSION:2.0
PRODID:-//Plone.org//NONSGML plone.app.event//EN
X-WR-TIMEZONE:America/Maceio
BEGIN:VEVENT
SUMMARY:Banca de defesa de dissertação
DTSTART;TZID=America/Maceio:20160418T140000
DTEND;TZID=America/Maceio:20160418T150000
DTSTAMP:20260420T115427Z
UID:6e2e0ded59184b089ec01c6a40713fb5@ip.ufal.br
ATTENDEE;CN="Banca: Profa. Adélia Augusta Souto de Oliveira (Orientadora)
 ";ROLE=REQ-PARTICIPANT:Banca: Profa. Adélia Augusta Souto de Oliveira (Or
 ientadora)
ATTENDEE;CN="Prof. Alexandre Torres Fonseca (PPGH/UFAL)";ROLE=REQ-PARTICIP
 ANT:Prof. Alexandre Torres Fonseca (PPGH/UFAL)
ATTENDEE;CN="Profa. Paula Orchiucci Miura (PPGP/UFAL)";ROLE=REQ-PARTICIPAN
 T:Profa. Paula Orchiucci Miura (PPGP/UFAL)
CREATED:20160411T165519Z
DESCRIPTION:Banca de defesa de dissertação para obtenção do título de
  Mestre de Valéria Vanessa Ferreira dos Santos\, intitulada: " Da Histori
 cidade como argumento ao argumento como Historicidade: Sentidos presentes 
 nas publicações da revista Psicologia & Sociedade entre os anos de 1986-
 2015."
LAST-MODIFIED:20250702T221511Z
LOCATION:Sala nº 33 no Instituto de Psicologia
URL:https://ip.ufal.br/pt-br/pos-graduacao/pospsico/institucional/calendar
 io-de-defesas/defesas-em-2016/banca-de-defesa-de-dissertacao-4
END:VEVENT
BEGIN:VTIMEZONE
TZID:America/Maceio
X-LIC-LOCATION:America/Maceio
BEGIN:STANDARD
DTSTART:20020216T230000
TZNAME:-03
TZOFFSETFROM:-0200
TZOFFSETTO:-0300
END:STANDARD
END:VTIMEZONE
END:VCALENDAR
