BEGIN:VCALENDAR
VERSION:2.0
PRODID:-//Plone.org//NONSGML plone.app.event//EN
X-WR-TIMEZONE:America/Maceio
BEGIN:VEVENT
SUMMARY:Banca de defesa de dissertação
DTSTART;TZID=America/Maceio:20160329T140000
DTEND;TZID=America/Maceio:20160329T155000
DTSTAMP:20260420T114421Z
UID:dbe2ac1cf7314dceb5a4b8099fd4d43c@ip.ufal.br
ATTENDEE;CN="Orientadora: Prof.ª Dr.ª Adélia Augusta Souto de Oliveira;
 ";ROLE=REQ-PARTICIPANT:Orientadora: Prof.ª Dr.ª Adélia Augusta Souto de
  Oliveira;
ATTENDEE;CN="Banca: Prof. Dr. Walter Matias Lima (PPGE/UFAL)";ROLE=REQ-PAR
 TICIPANT:Banca: Prof. Dr. Walter Matias Lima (PPGE/UFAL)
ATTENDEE;CN="Prof.ª Dr.ª Paula Orchiucci Miura";ROLE=REQ-PARTICIPANT:Pro
 f.ª Dr.ª Paula Orchiucci Miura
CREATED:20160318T165408Z
DESCRIPTION:Banca de defesa de dissertação para obtenção do título de
  Mestre do discente Gilberto Eleutério da Silva Júnior. Título: " Conce
 ito de pessoa com deficiência: Permanência e rupturas no processo psicos
 social de significação".
LAST-MODIFIED:20250702T221511Z
LOCATION:Sala nº 33 no Instituto de Psicologia
URL:https://ip.ufal.br/pt-br/pos-graduacao/pospsico/institucional/calendar
 io-de-defesas/defesas-em-2016/banca-de-defesa-de-dissertacao-3
END:VEVENT
BEGIN:VTIMEZONE
TZID:America/Maceio
X-LIC-LOCATION:America/Maceio
BEGIN:STANDARD
DTSTART:20020216T230000
TZNAME:-03
TZOFFSETFROM:-0200
TZOFFSETTO:-0300
END:STANDARD
END:VTIMEZONE
END:VCALENDAR
