BEGIN:VCALENDAR
VERSION:2.0
PRODID:-//Plone.org//NONSGML plone.app.event//EN
X-WR-TIMEZONE:America/Maceio
BEGIN:VEVENT
SUMMARY:Banca de defesa de dissertação
DTSTART;TZID=America/Maceio:20160314T140000
DTEND;TZID=America/Maceio:20160314T160000
DTSTAMP:20260420T123542Z
UID:3fd88152b9d541ffa0c3f31d6a69dbfb@ip.ufal.br
ATTENDEE;CN="Prof. Dr. Charles Elias Lang (Orientador)";ROLE=REQ-PARTICIPA
 NT:Prof. Dr. Charles Elias Lang (Orientador)
ATTENDEE;CN="Banca: Profa. Dra. Susane Vasconcelos Zanotti (UFAL)";ROLE=RE
 Q-PARTICIPANT:Banca: Profa. Dra. Susane Vasconcelos Zanotti (UFAL)
ATTENDEE;CN="Profa. Edilene Freire de Queiroz (UNICAP)";ROLE=REQ-PARTICIPA
 NT:Profa. Edilene Freire de Queiroz (UNICAP)
ATTENDEE;CN="Prof. Jefferson de Souza Bernardes (UFAL)";ROLE=REQ-PARTICIPA
 NT:Prof. Jefferson de Souza Bernardes (UFAL)
CREATED:20160309T150305Z
DESCRIPTION:Banca de defesa de dissertação para obtenção do título de
  Mestre da discente Ana Paula Monteiro Rêgo\, intitulada “Autismo: Disc
 urso médico e Discurso analítico” 
LAST-MODIFIED:20250702T221511Z
LOCATION:Laboratório de Computação Científica e Visualização da Univ
 ersidade Federal de Alagoas
URL:https://ip.ufal.br/pt-br/pos-graduacao/pospsico/institucional/calendar
 io-de-defesas/defesas-em-2016/banca-de-defesa-de-dissertacao-2
END:VEVENT
BEGIN:VTIMEZONE
TZID:America/Maceio
X-LIC-LOCATION:America/Maceio
BEGIN:STANDARD
DTSTART:20020216T230000
TZNAME:-03
TZOFFSETFROM:-0200
TZOFFSETTO:-0300
END:STANDARD
END:VTIMEZONE
END:VCALENDAR
