BEGIN:VCALENDAR
VERSION:2.0
PRODID:-//Plone.org//NONSGML plone.app.event//EN
X-WR-TIMEZONE:America/Maceio
BEGIN:VEVENT
SUMMARY:Banca de defesa de dissertação
DTSTART;TZID=America/Maceio:20161205T140000
DTEND;TZID=America/Maceio:20161205T150000
DTSTAMP:20260420T130737Z
UID:edab7267fc1e4fe59fac2fa152750162@ip.ufal.br
ATTENDEE;CN="Banca Examinadora: Prof. Dr. Raner Miguel Póvoa (Orientador)
 ;";ROLE=REQ-PARTICIPANT:Banca Examinadora: Prof. Dr. Raner Miguel Póvoa (
 Orientador);
ATTENDEE;CN="Prof. Dr. Jorge Artur Peçanha de Miranda Coelho (PPES/FAMED/
 UFAL";ROLE=REQ-PARTICIPANT:Prof. Dr. Jorge Artur Peçanha de Miranda Coelh
 o (PPES/FAMED/UFAL
ATTENDEE;CN="Prof. Dr. Valfrido Leão de M. Neto (PPES/FAMED/UFAL)";ROLE=R
 EQ-PARTICIPANT:Prof. Dr. Valfrido Leão de M. Neto (PPES/FAMED/UFAL)
CREATED:20170116T183150Z
DESCRIPTION:Banca de defesa de dissertação para obtenção do título de
  mestre do discente Alysson Cavalcante dos Santos. Título " Avaliação n
 europsicológica das funções executivas e ansiedade em pré-vestibulando
 s"\n 
LAST-MODIFIED:20250702T221511Z
LOCATION:Auditório LCCV
URL:https://ip.ufal.br/pt-br/pos-graduacao/pospsico/institucional/calendar
 io-de-defesas/defesas-em-2016/banca-de-defesa-de-dissertacao-15
END:VEVENT
BEGIN:VTIMEZONE
TZID:America/Maceio
X-LIC-LOCATION:America/Maceio
BEGIN:STANDARD
DTSTART:20020216T230000
TZNAME:-03
TZOFFSETFROM:-0200
TZOFFSETTO:-0300
END:STANDARD
END:VTIMEZONE
END:VCALENDAR
