BEGIN:VCALENDAR
VERSION:2.0
PRODID:-//Plone.org//NONSGML plone.app.event//EN
X-WR-TIMEZONE:America/Maceio
BEGIN:VEVENT
SUMMARY:Banca de defesa de dissertação
DTSTART;TZID=America/Maceio:20160929T140000
DTEND;TZID=America/Maceio:20160929T160000
DTSTAMP:20260420T121255Z
UID:2809c0abbae3473f8d98a9bc96784a75@ip.ufal.br
ATTENDEE;CN="Banca Examinadora";ROLE=REQ-PARTICIPANT:Banca Examinadora
ATTENDEE;CN="Profa. Maria Auxiliadora Teixeira Ribeiro (Orientadora)";ROLE
 =REQ-PARTICIPANT:Profa. Maria Auxiliadora Teixeira Ribeiro (Orientadora)
ATTENDEE;CN="Prof.  Jefferson de Souza Bernardes";ROLE=REQ-PARTICIPANT:Pro
 f.  Jefferson de Souza Bernardes
ATTENDEE;CN="Profa. Jacqueline Isaac Machado Brigagão";ROLE=REQ-PARTICIPA
 NT:Profa. Jacqueline Isaac Machado Brigagão
CREATED:20160920T173949Z
DESCRIPTION:Banca de defesa de dissertação do discente Nilton Santos da 
 Silva: "E por que não cair de paraquedas? Reflexões sobre ação conjunt
 a entre assistentes sociais e psicólogas dos Centros de Referência da As
 sistência Social - CRAS"
LAST-MODIFIED:20250702T221511Z
URL:https://ip.ufal.br/pt-br/pos-graduacao/pospsico/institucional/calendar
 io-de-defesas/defesas-em-2016/banca-de-defesa-de-dissertacao-14
END:VEVENT
BEGIN:VTIMEZONE
TZID:America/Maceio
X-LIC-LOCATION:America/Maceio
BEGIN:STANDARD
DTSTART:20020216T230000
TZNAME:-03
TZOFFSETFROM:-0200
TZOFFSETTO:-0300
END:STANDARD
END:VTIMEZONE
END:VCALENDAR
