BEGIN:VCALENDAR
VERSION:2.0
PRODID:-//Plone.org//NONSGML plone.app.event//EN
X-WR-TIMEZONE:America/Maceio
BEGIN:VEVENT
SUMMARY:Banca de defesa de dissertação
DTSTART;TZID=America/Maceio:20160825T140000
DTEND;TZID=America/Maceio:20160825T160000
DTSTAMP:20260420T121255Z
UID:1306e91b884f4c8c8ab426a8b3cff38a@ip.ufal.br
CREATED:20160822T174500Z
DESCRIPTION:Banca de defesa de dissertação da discente Carolina Lopes C
 ésar de Cerqueira: "Estresse como preditor da Síndrome de Burnout em ban
 cários".
LAST-MODIFIED:20250702T221511Z
LOCATION:FAMED
URL:https://ip.ufal.br/pt-br/pos-graduacao/pospsico/institucional/calendar
 io-de-defesas/defesas-em-2016/banca-de-defesa-de-dissertacao-13
END:VEVENT
BEGIN:VTIMEZONE
TZID:America/Maceio
X-LIC-LOCATION:America/Maceio
BEGIN:STANDARD
DTSTART:20020216T230000
TZNAME:-03
TZOFFSETFROM:-0200
TZOFFSETTO:-0300
END:STANDARD
END:VTIMEZONE
END:VCALENDAR
