BEGIN:VCALENDAR
VERSION:2.0
PRODID:-//Plone.org//NONSGML plone.app.event//EN
X-WR-TIMEZONE:America/Maceio
BEGIN:VEVENT
SUMMARY:Banca de defesa de dissertação
DTSTART;TZID=America/Maceio:20160815T140000
DTEND;TZID=America/Maceio:20160815T160000
DTSTAMP:20260420T122017Z
UID:a484b2abc8bc4af0a9eeec122df97544@ip.ufal.br
CREATED:20160812T141708Z
DESCRIPTION:Banca de defesa de dissertação da discente Veronica Santos d
 a Silva: "Um olhar para além da pobreza: fatores de risco e proteção pa
 ra o desempenho cognitivo de adolescentes em situação de vulnerabilidade
  social".
LAST-MODIFIED:20250702T221511Z
LOCATION:Sala 33 do IP
URL:https://ip.ufal.br/pt-br/pos-graduacao/pospsico/institucional/calendar
 io-de-defesas/defesas-em-2016/banca-de-defesa-de-dissertacao-12
END:VEVENT
BEGIN:VTIMEZONE
TZID:America/Maceio
X-LIC-LOCATION:America/Maceio
BEGIN:STANDARD
DTSTART:20020216T230000
TZNAME:-03
TZOFFSETFROM:-0200
TZOFFSETTO:-0300
END:STANDARD
END:VTIMEZONE
END:VCALENDAR
